BEGIN:VCALENDAR
VERSION:2.0
PRODID:-//Lookout Mountain Presbyterian Church - ECPv6.13.0//NONSGML v1.0//EN
CALSCALE:GREGORIAN
METHOD:PUBLISH
X-WR-CALNAME:Lookout Mountain Presbyterian Church
X-ORIGINAL-URL:https://lmpc.org
X-WR-CALDESC:Events for Lookout Mountain Presbyterian Church
REFRESH-INTERVAL;VALUE=DURATION:PT1H
X-Robots-Tag:noindex
X-PUBLISHED-TTL:PT1H
BEGIN:VTIMEZONE
TZID:America/New_York
BEGIN:DAYLIGHT
TZOFFSETFROM:-0500
TZOFFSETTO:-0400
TZNAME:EDT
DTSTART:20240310T070000
END:DAYLIGHT
BEGIN:STANDARD
TZOFFSETFROM:-0400
TZOFFSETTO:-0500
TZNAME:EST
DTSTART:20241103T060000
END:STANDARD
END:VTIMEZONE
BEGIN:VEVENT
DTSTART;TZID=America/New_York:20240301T180000
DTEND;TZID=America/New_York:20240301T210000
DTSTAMP:20260420T022713
CREATED:20240123T203603Z
LAST-MODIFIED:20240227T191404Z
UID:10000144-1709316000-1709326800@lmpc.org
SUMMARY:Setting Parents Free: Parenting Seminar Fri. Night
DESCRIPTION:Dr. John L. Cox\, author of Setting Parents Free\, is our featured speaker for this two-session seminar meeting on Friday\, March 1 at 6:00 p.m. and Saturday\, March 2 at 9:00 a.m. (*Childcare offered for nursery & preschool-age on Saturday morning.) This seminar isn’t just for parents; come and be equipped to better lead the children in your life. \nWe will look at what kids need to become healthy adults\, with a special focus on powerful discipline and what it looks like to speak love to your kids. Bring your questions! Please register on Realm Connect so we know how many to expect. Snacks will be provided. \nSchedule\nFriday night: “The Big Picture of Parenting” / building a proactive model\nSaturday part 1: “Teaching Your Kids How to Choose Well” / deconstructing discipline\nSaturday part 2: “Teaching Your Kids About Love” / growing up rooted and grounded in love\nQ&A
URL:https://lmpc.org/event/setting-parents-free-parenting-seminar-fri-night/
LOCATION:Fellowship Hall
ATTACH;FMTTYPE=image/png:https://lmpc.org/wp-content/uploads/2024/01/Parenting-Conference-2024-WEB.png
END:VEVENT
END:VCALENDAR