BEGIN:VCALENDAR
VERSION:2.0
PRODID:-//Lookout Mountain Presbyterian Church - ECPv6.13.0//NONSGML v1.0//EN
CALSCALE:GREGORIAN
METHOD:PUBLISH
X-ORIGINAL-URL:https://lmpc.org
X-WR-CALDESC:Events for Lookout Mountain Presbyterian Church
REFRESH-INTERVAL;VALUE=DURATION:PT1H
X-Robots-Tag:noindex
X-PUBLISHED-TTL:PT1H
BEGIN:VTIMEZONE
TZID:UTC
BEGIN:STANDARD
TZOFFSETFROM:+0000
TZOFFSETTO:+0000
TZNAME:UTC
DTSTART:20250101T000000
END:STANDARD
END:VTIMEZONE
BEGIN:VTIMEZONE
TZID:America/New_York
BEGIN:DAYLIGHT
TZOFFSETFROM:-0500
TZOFFSETTO:-0400
TZNAME:EDT
DTSTART:20250309T070000
END:DAYLIGHT
BEGIN:STANDARD
TZOFFSETFROM:-0400
TZOFFSETTO:-0500
TZNAME:EST
DTSTART:20251102T060000
END:STANDARD
END:VTIMEZONE
BEGIN:VEVENT
DTSTART;TZID=UTC:20250606T100000
DTEND;TZID=UTC:20250606T113000
DTSTAMP:20260419T215420
CREATED:20230607T212630Z
LAST-MODIFIED:20250530T122702Z
UID:10000297-1749204000-1749209400@lmpc.org
SUMMARY:Popsicles on the Playground
DESCRIPTION:If you are a mom of young kids or simply desire casual fellowship with other LMPC women\, join us on The Commons playground for fun and conversation. No registration required. \n 
URL:https://lmpc.org/event/popsicles-on-the-playground/2025-06-06/
LOCATION:The Commons
ATTACH;FMTTYPE=image/png:https://lmpc.org/wp-content/uploads/2023/06/popsicles-on-the-playground-image.png
END:VEVENT
BEGIN:VEVENT
DTSTART;TZID=America/New_York:20250606T200000
DTEND;TZID=America/New_York:20250606T220000
DTSTAMP:20260419T215420
CREATED:20240502T144159Z
LAST-MODIFIED:20250513T135709Z
UID:10000171-1749240000-1749247200@lmpc.org
SUMMARY:Middle School Wells Fargo
DESCRIPTION:Wear dark clothes and shoes for running and prepare for this action-packed outdoor game! Free to attend. Please register on Realm Connect by June 4.
URL:https://lmpc.org/event/middle-school-wells-fargo/
LOCATION:The Commons
ATTACH;FMTTYPE=image/png:https://lmpc.org/wp-content/uploads/2024/05/Wells-Fargo-WEB-image.png
ORGANIZER;CN="Margaret Compton":MAILTO:margaretcompton@lmpc.org
END:VEVENT
END:VCALENDAR