BEGIN:VCALENDAR
VERSION:2.0
PRODID:-//Lookout Mountain Presbyterian Church - ECPv6.13.0//NONSGML v1.0//EN
CALSCALE:GREGORIAN
METHOD:PUBLISH
X-WR-CALNAME:Lookout Mountain Presbyterian Church
X-ORIGINAL-URL:https://lmpc.org
X-WR-CALDESC:Events for Lookout Mountain Presbyterian Church
REFRESH-INTERVAL;VALUE=DURATION:PT1H
X-Robots-Tag:noindex
X-PUBLISHED-TTL:PT1H
BEGIN:VTIMEZONE
TZID:America/New_York
BEGIN:DAYLIGHT
TZOFFSETFROM:-0500
TZOFFSETTO:-0400
TZNAME:EDT
DTSTART:20250309T070000
END:DAYLIGHT
BEGIN:STANDARD
TZOFFSETFROM:-0400
TZOFFSETTO:-0500
TZNAME:EST
DTSTART:20251102T060000
END:STANDARD
END:VTIMEZONE
BEGIN:VEVENT
DTSTART;TZID=America/New_York:20250622T180000
DTEND;TZID=America/New_York:20250622T190000
DTSTAMP:20260419T111816
CREATED:20250602T170410Z
LAST-MODIFIED:20250610T135242Z
UID:10000298-1750615200-1750618800@lmpc.org
SUMMARY:An Evening of Prayer with the China Partnership
DESCRIPTION:Join us in the fellowship hall to hear about the important and strategic work being done by the China Partnership as we pray for the persecuted church. Child-friendly activities and refreshments provided.
URL:https://lmpc.org/event/an-evening-of-prayer-with-the-china-partnership/
LOCATION:Fellowship Hall
ATTACH;FMTTYPE=image/png:https://lmpc.org/wp-content/uploads/2025/06/Summer-Missions-Series-WEB.png
END:VEVENT
END:VCALENDAR