BEGIN:VCALENDAR
VERSION:2.0
PRODID:-//Lookout Mountain Presbyterian Church - ECPv6.13.0//NONSGML v1.0//EN
CALSCALE:GREGORIAN
METHOD:PUBLISH
X-WR-CALNAME:Lookout Mountain Presbyterian Church
X-ORIGINAL-URL:https://lmpc.org
X-WR-CALDESC:Events for Lookout Mountain Presbyterian Church
REFRESH-INTERVAL;VALUE=DURATION:PT1H
X-Robots-Tag:noindex
X-PUBLISHED-TTL:PT1H
BEGIN:VTIMEZONE
TZID:America/New_York
BEGIN:DAYLIGHT
TZOFFSETFROM:-0500
TZOFFSETTO:-0400
TZNAME:EDT
DTSTART:20250309T070000
END:DAYLIGHT
BEGIN:STANDARD
TZOFFSETFROM:-0400
TZOFFSETTO:-0500
TZNAME:EST
DTSTART:20251102T060000
END:STANDARD
END:VTIMEZONE
BEGIN:VEVENT
DTSTART;TZID=America/New_York:20251021T063000
DTEND;TZID=America/New_York:20251021T074500
DTSTAMP:20260419T231537
CREATED:20230814T121846Z
LAST-MODIFIED:20251010T135940Z
UID:10000048-1761028200-1761032700@lmpc.org
SUMMARY:Men's Breakfast
DESCRIPTION:Enjoy food\, fellowship\, and an encouraging word from Barry Smith\, Metanoia Prison Ministries Regional Director. Invite your friend\, neighbor\, or coworker along. No registration required. \nBarry Smith serves as the Metanoia Prison Ministries Regional Director for the Tennessee Valley Presbytery Region. He is a graduate of Trinity Evangelical Divinity School and Miami International Seminary\, and he is a ruling elder at North Shore Fellowship. He is the author of Grace in the Morning: A former pastor’s memoir of overcoming childhood trauma and addiction and A Study in the Love and Grace of God from Deuteronomy. Barry and his wife\, Gail\, live in Hixson and have eight children and eight grandchildren between them.
URL:https://lmpc.org/event/mens-breakfast/
LOCATION:Fellowship Hall
ATTACH;FMTTYPE=image/png:https://lmpc.org/wp-content/uploads/2023/08/mens-breakfast-web-image.png
ORGANIZER;CN="Jocelyn Christie":MAILTO:jocelyn@lmpc.org
END:VEVENT
END:VCALENDAR