BEGIN:VCALENDAR
VERSION:2.0
PRODID:-//Lookout Mountain Presbyterian Church - ECPv6.13.0//NONSGML v1.0//EN
CALSCALE:GREGORIAN
METHOD:PUBLISH
X-ORIGINAL-URL:https://lmpc.org
X-WR-CALDESC:Events for Lookout Mountain Presbyterian Church
REFRESH-INTERVAL;VALUE=DURATION:PT1H
X-Robots-Tag:noindex
X-PUBLISHED-TTL:PT1H
BEGIN:VTIMEZONE
TZID:UTC
BEGIN:STANDARD
TZOFFSETFROM:+0000
TZOFFSETTO:+0000
TZNAME:UTC
DTSTART:20260101T000000
END:STANDARD
END:VTIMEZONE
BEGIN:VTIMEZONE
TZID:America/New_York
BEGIN:DAYLIGHT
TZOFFSETFROM:-0500
TZOFFSETTO:-0400
TZNAME:EDT
DTSTART:20260308T070000
END:DAYLIGHT
BEGIN:STANDARD
TZOFFSETFROM:-0400
TZOFFSETTO:-0500
TZNAME:EST
DTSTART:20261101T060000
END:STANDARD
END:VTIMEZONE
BEGIN:VEVENT
DTSTART;TZID=UTC:20260201T100000
DTEND;TZID=UTC:20260201T104500
DTSTAMP:20260420T054733
CREATED:20230606T225316Z
LAST-MODIFIED:20260105T215049Z
UID:10000323-1769940000-1769942700@lmpc.org
SUMMARY:Intro to LMPC
DESCRIPTION:Are you interested in joining LMPC? For this session\, our membership class will run as an adult elective during the Sunday School hour at 10:00 a.m. from January 4 through March 1. Please register on Realm Connect by December 23.
URL:https://lmpc.org/event/intro-to-lmpc/2026-02-01/
LOCATION:Conference Room
ATTACH;FMTTYPE=image/png:https://lmpc.org/wp-content/uploads/2023/06/Intro-image-for-website.png
ORGANIZER;CN="Julie Dean":MAILTO:julie@lmpc.org
END:VEVENT
BEGIN:VEVENT
DTSTART;TZID=America/New_York:20260201T121500
DTEND;TZID=America/New_York:20260201T134500
DTSTAMP:20260420T054733
CREATED:20230730T184050Z
LAST-MODIFIED:20260116T173305Z
UID:10000046-1769948100-1769953500@lmpc.org
SUMMARY:College Lunch
DESCRIPTION:College students\, join us for lunch after church in the Jane Harris Youth Building for a time of connection and fellowship.
URL:https://lmpc.org/event/college-lunch/
LOCATION:JHYB
ATTACH;FMTTYPE=image/jpeg:https://lmpc.org/wp-content/uploads/2023/07/college-luncheon-web.jpg
ORGANIZER;CN="Julie Dean":MAILTO:julie@lmpc.org
END:VEVENT
END:VCALENDAR