BEGIN:VCALENDAR
VERSION:2.0
PRODID:-//Lookout Mountain Presbyterian Church - ECPv6.13.0//NONSGML v1.0//EN
CALSCALE:GREGORIAN
METHOD:PUBLISH
X-ORIGINAL-URL:https://lmpc.org
X-WR-CALDESC:Events for Lookout Mountain Presbyterian Church
REFRESH-INTERVAL;VALUE=DURATION:PT1H
X-Robots-Tag:noindex
X-PUBLISHED-TTL:PT1H
BEGIN:VTIMEZONE
TZID:America/New_York
BEGIN:DAYLIGHT
TZOFFSETFROM:-0500
TZOFFSETTO:-0400
TZNAME:EDT
DTSTART:20260308T070000
END:DAYLIGHT
BEGIN:STANDARD
TZOFFSETFROM:-0400
TZOFFSETTO:-0500
TZNAME:EST
DTSTART:20261101T060000
END:STANDARD
END:VTIMEZONE
BEGIN:VEVENT
DTSTART;TZID=America/New_York:20260204T174500
DTEND;TZID=America/New_York:20260204T190000
DTSTAMP:20260420T054630
CREATED:20260116T150029Z
LAST-MODIFIED:20260126T173150Z
UID:10000338-1770227100-1770231600@lmpc.org
SUMMARY:London Missions Family Event
DESCRIPTION:Please join us for an evening of missions family fun as we hear from supported missionaries Chris and Savanna serving in London! We will enjoy food\, fellowship\, crafts and games while learning more about their important work abroad. Please register on Realm Connect. Regular Wednesday dinner rates apply; dairy-free/gluten-free options available.
URL:https://lmpc.org/event/london-missions-family-event/
LOCATION:Fellowship Hall
ATTACH;FMTTYPE=image/png:https://lmpc.org/wp-content/uploads/2026/01/lookout-loves-london-logo.png
END:VEVENT
END:VCALENDAR