BEGIN:VCALENDAR
VERSION:2.0
PRODID:-//Lookout Mountain Presbyterian Church - ECPv6.13.0//NONSGML v1.0//EN
CALSCALE:GREGORIAN
METHOD:PUBLISH
X-WR-CALNAME:Lookout Mountain Presbyterian Church
X-ORIGINAL-URL:https://lmpc.org
X-WR-CALDESC:Events for Lookout Mountain Presbyterian Church
REFRESH-INTERVAL;VALUE=DURATION:PT1H
X-Robots-Tag:noindex
X-PUBLISHED-TTL:PT1H
BEGIN:VTIMEZONE
TZID:America/New_York
BEGIN:DAYLIGHT
TZOFFSETFROM:-0500
TZOFFSETTO:-0400
TZNAME:EDT
DTSTART:20260308T070000
END:DAYLIGHT
BEGIN:STANDARD
TZOFFSETFROM:-0400
TZOFFSETTO:-0500
TZNAME:EST
DTSTART:20261101T060000
END:STANDARD
END:VTIMEZONE
BEGIN:VEVENT
DTSTART;TZID=America/New_York:20260408T181500
DTEND;TZID=America/New_York:20260408T190000
DTSTAMP:20260422T115240
CREATED:20260319T200452Z
LAST-MODIFIED:20260407T175139Z
UID:10000348-1775672100-1775674800@lmpc.org
SUMMARY:Wednesday Evening Report
DESCRIPTION:Join us as we hear from supported UK church planter\, Malc Clark. Malc will report at 6:15 p.m.\, following Wednesday night dinner\, in the chapel. The report will conclude at 7:00 p.m. to allow parents to pick their children up from kids’ club and nursery. Wednesday Evening Prayer will not be held\, to allow participants to attend the report.
URL:https://lmpc.org/event/wednesday-evening-report/
LOCATION:Chapel
ATTACH;FMTTYPE=image/png:https://lmpc.org/wp-content/uploads/2026/03/Malc-report-WEB.png
END:VEVENT
END:VCALENDAR