BEGIN:VCALENDAR
VERSION:2.0
PRODID:-//Lookout Mountain Presbyterian Church - ECPv6.13.0//NONSGML v1.0//EN
CALSCALE:GREGORIAN
METHOD:PUBLISH
X-WR-CALNAME:Lookout Mountain Presbyterian Church
X-ORIGINAL-URL:https://lmpc.org
X-WR-CALDESC:Events for Lookout Mountain Presbyterian Church
REFRESH-INTERVAL;VALUE=DURATION:PT1H
X-Robots-Tag:noindex
X-PUBLISHED-TTL:PT1H
BEGIN:VTIMEZONE
TZID:America/New_York
BEGIN:DAYLIGHT
TZOFFSETFROM:-0500
TZOFFSETTO:-0400
TZNAME:EDT
DTSTART:20260308T070000
END:DAYLIGHT
BEGIN:STANDARD
TZOFFSETFROM:-0400
TZOFFSETTO:-0500
TZNAME:EST
DTSTART:20261101T060000
END:STANDARD
END:VTIMEZONE
BEGIN:VEVENT
DTSTART;TZID=America/New_York:20260410T093000
DTEND;TZID=America/New_York:20260410T113000
DTSTAMP:20260422T115402
CREATED:20250827T201546Z
LAST-MODIFIED:20260313T171322Z
UID:10000307-1775813400-1775820600@lmpc.org
SUMMARY:Moms' Coffee
DESCRIPTION:Moms of all stages\, join us for breakfast\, fellowship\, and a panel discussion. Beth Cappechi\, Amy Fowler\, Julia Glover\, and Erin Hatcliff will be our panelists\, discussing the topic of “Hopeful Parenting in Difficult Seasons.” \nAll of these women are mental health professionals from our church and will be speaking to us from both their professional and personal experience. \nNursery is available for infants-PreK and no registration is required.
URL:https://lmpc.org/event/moms-coffee/
LOCATION:Chapel
ATTACH;FMTTYPE=image/png:https://lmpc.org/wp-content/uploads/2025/08/Moms-Coffee-WEB.png
END:VEVENT
END:VCALENDAR