BEGIN:VCALENDAR
VERSION:2.0
PRODID:-//Lookout Mountain Presbyterian Church - ECPv6.13.0//NONSGML v1.0//EN
CALSCALE:GREGORIAN
METHOD:PUBLISH
X-WR-CALNAME:Lookout Mountain Presbyterian Church
X-ORIGINAL-URL:https://lmpc.org
X-WR-CALDESC:Events for Lookout Mountain Presbyterian Church
REFRESH-INTERVAL;VALUE=DURATION:PT1H
X-Robots-Tag:noindex
X-PUBLISHED-TTL:PT1H
BEGIN:VTIMEZONE
TZID:America/New_York
BEGIN:DAYLIGHT
TZOFFSETFROM:-0500
TZOFFSETTO:-0400
TZNAME:EDT
DTSTART:20260308T070000
END:DAYLIGHT
BEGIN:STANDARD
TZOFFSETFROM:-0400
TZOFFSETTO:-0500
TZNAME:EST
DTSTART:20261101T060000
END:STANDARD
END:VTIMEZONE
BEGIN:VTIMEZONE
TZID:America/New_York
BEGIN:DAYLIGHT
TZOFFSETFROM:-0500
TZOFFSETTO:-0400
TZNAME:EDT
DTSTART:20260308T070000
END:DAYLIGHT
BEGIN:STANDARD
TZOFFSETFROM:-0400
TZOFFSETTO:-0500
TZNAME:EST
DTSTART:20261101T060000
END:STANDARD
END:VTIMEZONE
BEGIN:VEVENT
DTSTART;TZID=America/New_York:20260708T181500
DTEND;TZID=America/New_York:20260708T200000
DTSTAMP:20260422T181431
CREATED:20260422T205015Z
LAST-MODIFIED:20260422T205015Z
UID:10000353-1783534500-1783540800@lmpc.org
SUMMARY:Women's Ensemble
DESCRIPTION:Ladies of LMPC\, if you love singing out the praises to our God and King\, the Women’s Summer Ensemble has a place for you! This opportunity is for high school age and above. For the month of July\, we will be rehearsing on Wednesday nights in the choir room and singing on Sunday mornings in the Sanctuary. The ensemble’s schedule is below: \nJuly 8 (Wednesday) – 6:15 p.m. to 8:00 p.m. rehearsal\nJuly 12 (Sunday) – sing in both sanctuary services\nJuly 15 (Wednesday) – 6:15 p.m. to 7:30 p.m. rehearsal\nJuly 19 (Sunday) – sing in both sanctuary services\nJuly 22 (Wednesday)– 6:15 p.m. to 7:30 p.m. rehearsal\nJuly 26 (Sunday) – sing in both sanctuary services \nInterested? Please register on Realm Connect and we’ll see you on June 10!
URL:https://lmpc.org/event/womens-ensemble/
LOCATION:Choir Room
ATTACH;FMTTYPE=image/png:https://lmpc.org/wp-content/uploads/2026/04/womens-ensemble-WEB.png
ORGANIZER;CN="Brett Hyberger":MAILTO:brett@lmpc.org
END:VEVENT
BEGIN:VEVENT
DTSTART;TZID=America/New_York:20260721T173000
DTEND;TZID=America/New_York:20260721T200000
DTSTAMP:20260422T181431
CREATED:20250429T211414Z
LAST-MODIFIED:20260421T200633Z
UID:10000174-1784655000-1784664000@lmpc.org
SUMMARY:VBS
DESCRIPTION:We are excited to welcome rising Kindergarten through rising 6th graders to our Illumination Station VBS 2026! We will eat dinner together\, have a worship time\, and then break into our grade level groups to go through the evening rotations. \nRegister on Realm Connect beginning May 1. \nOur time together will focus on shining the light on who Jesus really is and our theme verse will be John 8:12: “When Jesus spoke again to the people\, he said\, “I am the light of the world. Whoever follows me will never walk in darkness but will have the light of life.” \nWe still need volunteers! If you can help\, please register on the separate event on Realm Connect.
URL:https://lmpc.org/event/vbs-day-1/
ATTACH;FMTTYPE=image/png:https://lmpc.org/wp-content/uploads/2025/04/IlluminationStation-Burst-Transparent-Background.png
ORGANIZER;CN="Brennan Griffin":MAILTO:brennan@lmpc.org
END:VEVENT
BEGIN:VEVENT
DTSTART;TZID=America/New_York:20260722T173000
DTEND;TZID=America/New_York:20260722T200000
DTSTAMP:20260422T181431
CREATED:20250429T211422Z
LAST-MODIFIED:20260421T200605Z
UID:10000286-1784741400-1784750400@lmpc.org
SUMMARY:VBS
DESCRIPTION:We are excited to welcome rising Kindergarten through rising 6th graders to our Illumination Station VBS 2026! We will eat dinner together\, have a worship time\, and then break into our grade level groups to go through the evening rotations. \nRegister on Realm Connect beginning May 1. \nOur time together will focus on shining the light on who Jesus really is and our theme verse will be John 8:12: “When Jesus spoke again to the people\, he said\, “I am the light of the world. Whoever follows me will never walk in darkness but will have the light of life.” \nWe still need volunteers! If you can help\, please register on the separate event on Realm Connect.
URL:https://lmpc.org/event/vbs-day-2/
ATTACH;FMTTYPE=image/png:https://lmpc.org/wp-content/uploads/2025/04/IlluminationStation-Burst-Transparent-Background.png
ORGANIZER;CN="Brennan Griffin":MAILTO:brennan@lmpc.org
END:VEVENT
BEGIN:VEVENT
DTSTART;TZID=America/New_York:20260723T173000
DTEND;TZID=America/New_York:20260723T200000
DTSTAMP:20260422T181431
CREATED:20250429T211427Z
LAST-MODIFIED:20260421T200346Z
UID:10000287-1784827800-1784836800@lmpc.org
SUMMARY:VBS
DESCRIPTION:We are excited to welcome rising Kindergarten through rising 6th graders to our Illumination Station VBS 2026! We will eat dinner together\, have a worship time\, and then break into our grade level groups to go through the evening rotations. \nRegister on Realm Connect beginning May 1. \nOur time together will focus on shining the light on who Jesus really is and our theme verse will be John 8:12: “When Jesus spoke again to the people\, he said\, “I am the light of the world. Whoever follows me will never walk in darkness but will have the light of life.” \nWe still need volunteers! If you can help\, please register on the separate event on Realm Connect.
URL:https://lmpc.org/event/vbs-day-3/
ATTACH;FMTTYPE=image/png:https://lmpc.org/wp-content/uploads/2025/04/IlluminationStation-Burst-Transparent-Background.png
ORGANIZER;CN="Brennan Griffin":MAILTO:brennan@lmpc.org
END:VEVENT
END:VCALENDAR