BEGIN:VCALENDAR
VERSION:2.0
PRODID:-//Lookout Mountain Presbyterian Church - ECPv6.13.0//NONSGML v1.0//EN
CALSCALE:GREGORIAN
METHOD:PUBLISH
X-ORIGINAL-URL:https://lmpc.org
X-WR-CALDESC:Events for Lookout Mountain Presbyterian Church
REFRESH-INTERVAL;VALUE=DURATION:PT1H
X-Robots-Tag:noindex
X-PUBLISHED-TTL:PT1H
BEGIN:VTIMEZONE
TZID:America/New_York
BEGIN:DAYLIGHT
TZOFFSETFROM:-0500
TZOFFSETTO:-0400
TZNAME:EDT
DTSTART:20260308T070000
END:DAYLIGHT
BEGIN:STANDARD
TZOFFSETFROM:-0400
TZOFFSETTO:-0500
TZNAME:EST
DTSTART:20261101T060000
END:STANDARD
END:VTIMEZONE
BEGIN:VTIMEZONE
TZID:America/New_York
BEGIN:DAYLIGHT
TZOFFSETFROM:-0500
TZOFFSETTO:-0400
TZNAME:EDT
DTSTART:20260308T070000
END:DAYLIGHT
BEGIN:STANDARD
TZOFFSETFROM:-0400
TZOFFSETTO:-0500
TZNAME:EST
DTSTART:20261101T060000
END:STANDARD
END:VTIMEZONE
BEGIN:VEVENT
DTSTART;TZID=America/New_York:20260502T180000
DTEND;TZID=America/New_York:20260502T210000
DTSTAMP:20260420T030241
CREATED:20250327T133438Z
LAST-MODIFIED:20260401T171912Z
UID:10000284-1777744800-1777755600@lmpc.org
SUMMARY:Beast Feast
DESCRIPTION:We’ll enjoy a feast of smoked meats\, followed by a time with Robert Cunningham\, founder and director of Christ for Kentucky\, who will speak on “The Mighty Meekness of Masculinity.” \nFeel free to invite a friend\, co-worker\, or neighbor and register on Realm Connect by Wednesday\, April 29. \n 
URL:https://lmpc.org/event/beast-feast/
LOCATION:Fellowship Hall
ATTACH;FMTTYPE=image/jpeg:https://lmpc.org/wp-content/uploads/2025/03/Beast-Feast-WEB.jpg
ORGANIZER;CN="Jocelyn Christie":MAILTO:jocelyn@lmpc.org
END:VEVENT
BEGIN:VEVENT
DTSTART;TZID=America/New_York:20260503T100000
DTEND;TZID=America/New_York:20260503T104500
DTSTAMP:20260420T030241
CREATED:20260330T192145Z
LAST-MODIFIED:20260330T192203Z
UID:10000351-1777802400-1777805100@lmpc.org
SUMMARY:Reedeming Technology Conference
DESCRIPTION:How do we faithfully navigate technology in a world where screens shape so much of our lives? Join us for a weekend with Robert Cunningham\, founder and director of Christ For Kentucky\, as we explore how the Gospel speaks into our use of technology and helps us move from distraction and dependency toward wisdom and intentionality. \nThis conference will offer biblical insight and practical guidance for individuals\, families\, and the church as we seek to steward technology in a way that honors Christ. \nWhether you’re a parent\, student\, or someone simply looking to grow in discernment\, this will be a helpful and timely weekend. \nSchedule:\nFriday\, May 1 | 6:30 – 8:30 p.m.\nSaturday\, May 2 | 9:00 a.m. – 12:00 p.m.\nSunday\, May 3 | 10:00 – 10:45 a.m.
URL:https://lmpc.org/event/reedeming-technology-conference/2026-05-03/
LOCATION:Fellowship Hall
ORGANIZER;CN="Jocelyn Christie":MAILTO:jocelyn@lmpc.org
END:VEVENT
BEGIN:VEVENT
DTSTART;TZID=America/New_York:20260503T180000
DTEND;TZID=America/New_York:20260503T190000
DTSTAMP:20260420T030241
CREATED:20240409T194302Z
LAST-MODIFIED:20260320T155043Z
UID:10000164-1777831200-1777834800@lmpc.org
SUMMARY:Scripture & Song
DESCRIPTION:This service will feature our Chancel Choir\, Children’s Choir\, Girls’ Ensemble\, and Handbell Choir. Please join us for stories of boldness and strength in Scripture and song! Nursery is provided.
URL:https://lmpc.org/event/scripture-song/
LOCATION:Sanctuary
ORGANIZER;CN="Brett Hyberger":MAILTO:brett@lmpc.org
END:VEVENT
BEGIN:VEVENT
DTSTART;TZID=America/New_York:20260506T174500
DTEND;TZID=America/New_York:20260506T184500
DTSTAMP:20260420T030241
CREATED:20240909T151810Z
LAST-MODIFIED:20260416T142045Z
UID:10000245-1778089500-1778093100@lmpc.org
SUMMARY:Wednesday Fellowship Picnic
DESCRIPTION:Join us at The Commons for hot dogs\, slaw\, chips\, cookies\, pudding cups\, and tea/lemonade. Bring the whole family! Regular dinner prices apply.
URL:https://lmpc.org/event/wednesday-fellowship-picnic/
LOCATION:The Commons
ATTACH;FMTTYPE=image/png:https://lmpc.org/wp-content/uploads/2023/08/wed-kickoff-picnic-FB-web-image.png
ORGANIZER;CN="Brennan Griffin":MAILTO:brennan@lmpc.org
END:VEVENT
BEGIN:VEVENT
DTSTART;TZID=America/New_York:20260514T190000
DTEND;TZID=America/New_York:20260514T203000
DTSTAMP:20260420T030241
CREATED:20260319T195723Z
LAST-MODIFIED:20260319T195723Z
UID:10000347-1778785200-1778790600@lmpc.org
SUMMARY:Men's Monthly Book Discussion
DESCRIPTION:Men’s Book Club meets on the second Thursday of each month. Please join for great fellowship and rich discussion. Facilitator: Ken Stewart \nThe book selection (April-May) is Brian Stanley’s The Bible and the Flag (Inter Varsity Press\, 1990)\, an investigation into the relationship between western powers’ global influence and missionary expansion.
URL:https://lmpc.org/event/mens-monthly-book-discussion/
LOCATION:Room 211
ATTACH;FMTTYPE=image/png:https://lmpc.org/wp-content/uploads/2024/09/Mens-Book-Discussion-WEB.png
ORGANIZER;CN="Ken Stewart":MAILTO:kenandjanestewart@gmail.com
END:VEVENT
BEGIN:VEVENT
DTSTART;VALUE=DATE:20260706
DTEND;VALUE=DATE:20260711
DTSTAMP:20260420T030241
CREATED:20250320T140617Z
LAST-MODIFIED:20260122T162944Z
UID:10000153-1783296000-1783727999@lmpc.org
SUMMARY:Middle School Camp Kulaqua
DESCRIPTION:Current 6th-8th graders\, join us for a week of camp! Registration begins March 17 on Realm Connect and space is limited and expected to fill quickly. \nA deposit of $300 and a 2026 Medical Release and Permission form are required by May 1 to secure your spot. \nTotal cost is TBD and balance is due by June 1 (non-refundable after that date unless your spot can be filled by someone else). Add a t-shirt for $15.
URL:https://lmpc.org/event/middle-school-camp-kulaqua/
LOCATION:Camp Kulaqua
ATTACH;FMTTYPE=image/png:https://lmpc.org/wp-content/uploads/2024/02/Kulaqua-EMAIL.png
ORGANIZER;CN="Margaret Compton":MAILTO:margaretcompton@lmpc.org
END:VEVENT
END:VCALENDAR