BEGIN:VCALENDAR
VERSION:2.0
PRODID:-//Lookout Mountain Presbyterian Church - ECPv6.13.0//NONSGML v1.0//EN
CALSCALE:GREGORIAN
METHOD:PUBLISH
X-WR-CALNAME:Lookout Mountain Presbyterian Church
X-ORIGINAL-URL:https://lmpc.org
X-WR-CALDESC:Events for Lookout Mountain Presbyterian Church
REFRESH-INTERVAL;VALUE=DURATION:PT1H
X-Robots-Tag:noindex
X-PUBLISHED-TTL:PT1H
BEGIN:VTIMEZONE
TZID:America/New_York
BEGIN:DAYLIGHT
TZOFFSETFROM:-0500
TZOFFSETTO:-0400
TZNAME:EDT
DTSTART:20230312T070000
END:DAYLIGHT
BEGIN:STANDARD
TZOFFSETFROM:-0400
TZOFFSETTO:-0500
TZNAME:EST
DTSTART:20231105T060000
END:STANDARD
END:VTIMEZONE
BEGIN:VEVENT
DTSTART;TZID=America/New_York:20230813T180000
DTEND;TZID=America/New_York:20230813T190000
DTSTAMP:20260423T042145
CREATED:20230730T181142Z
LAST-MODIFIED:20230730T181234Z
UID:10000045-1691949600-1691953200@lmpc.org
SUMMARY:Installation Service
DESCRIPTION:All are invited for a service of installation for John Mark Scruggs\, our new pastor of congregational care. Following this special service\, we will enjoy ice cream and cookies in the courtyard as wecelebrate with John Mark and Caroline and their children\, Jack\, Mary Margaret\, and Sam. Nursery will be provided.
URL:https://lmpc.org/event/installation-service/
LOCATION:Fellowship Hall
ATTACH;FMTTYPE=image/jpeg:https://lmpc.org/wp-content/uploads/2023/07/scruggs-fam.jpg
END:VEVENT
BEGIN:VEVENT
DTSTART;TZID=America/New_York:20230830T173000
DTEND;TZID=America/New_York:20230830T173000
DTSTAMP:20260423T042145
CREATED:20230818T152325Z
LAST-MODIFIED:20230818T152325Z
UID:10000049-1693416600-1693416600@lmpc.org
SUMMARY:Wednesday Night Kickoff Dinner
DESCRIPTION:It’s our first fellowship dinner of the fall! Come enjoy BBQ pork and other picnic foods. Costs are $6 for teens/adults\, $4 for elementary-age\, and free for ages 5 and under. All other Wednesday night activities resume September 6; learn more at lmpc.org/wednesday.
URL:https://lmpc.org/event/wednesday-night-kickoff-dinner/
LOCATION:The Commons
ATTACH;FMTTYPE=image/png:https://lmpc.org/wp-content/uploads/2023/08/wed-kickoff-picnic-FB-web-image.png
END:VEVENT
END:VCALENDAR