BEGIN:VCALENDAR
VERSION:2.0
PRODID:-//Lookout Mountain Presbyterian Church - ECPv6.13.0//NONSGML v1.0//EN
CALSCALE:GREGORIAN
METHOD:PUBLISH
X-WR-CALNAME:Lookout Mountain Presbyterian Church
X-ORIGINAL-URL:https://lmpc.org
X-WR-CALDESC:Events for Lookout Mountain Presbyterian Church
REFRESH-INTERVAL;VALUE=DURATION:PT1H
X-Robots-Tag:noindex
X-PUBLISHED-TTL:PT1H
BEGIN:VTIMEZONE
TZID:America/New_York
BEGIN:DAYLIGHT
TZOFFSETFROM:-0500
TZOFFSETTO:-0400
TZNAME:EDT
DTSTART:20230312T070000
END:DAYLIGHT
BEGIN:STANDARD
TZOFFSETFROM:-0400
TZOFFSETTO:-0500
TZNAME:EST
DTSTART:20231105T060000
END:STANDARD
END:VTIMEZONE
BEGIN:VEVENT
DTSTART;TZID=America/New_York:20231019T180000
DTEND;TZID=America/New_York:20231019T193000
DTSTAMP:20260422T221558
CREATED:20231003T141703Z
LAST-MODIFIED:20231005T121049Z
UID:10000118-1697738400-1697743800@lmpc.org
SUMMARY:The Bridge
DESCRIPTION:Gather with women of all ages to fellowship and hear how God has been at work in the lives of our LMPC women. Lee Ballenger and Charlotte Lindeman will share how God has met them in the midst of grief\, disappointment\, and broken dreams. Dinner will be provided for $10. Please register on Realm Connect by Tuesday\, October 17.
URL:https://lmpc.org/event/the-bridge/
LOCATION:Fellowship Hall
ATTACH;FMTTYPE=image/jpeg:https://lmpc.org/wp-content/uploads/2023/10/Bridge_Fall.jpg
END:VEVENT
END:VCALENDAR