BEGIN:VCALENDAR
VERSION:2.0
PRODID:-//Lookout Mountain Presbyterian Church - ECPv6.13.0//NONSGML v1.0//EN
CALSCALE:GREGORIAN
METHOD:PUBLISH
X-WR-CALNAME:Lookout Mountain Presbyterian Church
X-ORIGINAL-URL:https://lmpc.org
X-WR-CALDESC:Events for Lookout Mountain Presbyterian Church
REFRESH-INTERVAL;VALUE=DURATION:PT1H
X-Robots-Tag:noindex
X-PUBLISHED-TTL:PT1H
BEGIN:VTIMEZONE
TZID:America/New_York
BEGIN:DAYLIGHT
TZOFFSETFROM:-0500
TZOFFSETTO:-0400
TZNAME:EDT
DTSTART:20250309T070000
END:DAYLIGHT
BEGIN:STANDARD
TZOFFSETFROM:-0400
TZOFFSETTO:-0500
TZNAME:EST
DTSTART:20251102T060000
END:STANDARD
END:VTIMEZONE
BEGIN:VTIMEZONE
TZID:America/New_York
BEGIN:DAYLIGHT
TZOFFSETFROM:-0500
TZOFFSETTO:-0400
TZNAME:EDT
DTSTART:20250309T070000
END:DAYLIGHT
BEGIN:STANDARD
TZOFFSETFROM:-0400
TZOFFSETTO:-0500
TZNAME:EST
DTSTART:20251102T060000
END:STANDARD
END:VTIMEZONE
BEGIN:VEVENT
DTSTART;TZID=America/New_York:20250803T100000
DTEND;TZID=America/New_York:20250803T104500
DTSTAMP:20260419T142839
CREATED:20250702T185524Z
LAST-MODIFIED:20250711T180718Z
UID:10000304-1754215200-1754217900@lmpc.org
SUMMARY:Parent/Child Orientation
DESCRIPTION:On Sunday\, August 3\, our worship services will adjust to be at 8:45 and 11:00 a.m. This creates an hour in between for Sunday School\, which will resume August 17. \nOn August 3 at 10:00 a.m.\, parents of preschoolers leaving the nursery and parents of students in youth ministry are invited to two special gatherings. \nParents of Rising PreK (4-year-olds leaving nursery)\nBring your children to the chapel to hear from a pastor about what it means to be a part of an LMPC worship service. You will also have the opportunity to try the new check-in/check-out procedure. \nParents of Rising 6th & 9th Graders\nCome to Room 313 (old Upper Room) to hear all about the youth ministry and philosophy here at LMPC. This will be especially helpful for parents of students newly entering middle school or high school\, but all parents of youth are welcome. You’ll have the opportunity to ask questions and receive important dates for the year.
URL:https://lmpc.org/event/parent-child-orientation/
LOCATION:Various Locations
ATTACH;FMTTYPE=image/png:https://lmpc.org/wp-content/uploads/2025/07/JHYB-web.png
ORGANIZER;CN="Brennan Griffin":MAILTO:brennan@lmpc.org
END:VEVENT
BEGIN:VEVENT
DTSTART;TZID=America/New_York:20250810T100000
DTEND;TZID=America/New_York:20250810T104500
DTSTAMP:20260419T142839
CREATED:20250702T190346Z
LAST-MODIFIED:20250729T135033Z
UID:10000305-1754820000-1754822700@lmpc.org
SUMMARY:Sunday Morning Open House
DESCRIPTION:On Sunday\, August 3\, our worship services will adjust to be at 8:45 and 11:00 a.m. This creates an hour in between for Sunday School\, which will resume August 17. \nOn August 10 at 10:00 a.m.\, all are invited to explore our newly renovated spaces and check in with teachers located in elementary and adult classrooms. Visit classes with your children to meet their teachers\, and learn about the adult electives being offered in the new adult classrooms. Additionally\, stop by the chapel to learn about opportunities to serve with adult discipleship\, children or youth ministry\, worship\, or hospitality. \nPrayerfully consider how you will invest your second hour each Sunday morning while on campus! How will you “Give 2?”
URL:https://lmpc.org/event/open-house/
LOCATION:Various Locations
ATTACH;FMTTYPE=image/png:https://lmpc.org/wp-content/uploads/2025/07/Ministry-Fair-WEB.png
END:VEVENT
BEGIN:VEVENT
DTSTART;TZID=America/New_York:20250810T180000
DTEND;TZID=America/New_York:20250810T190000
DTSTAMP:20260419T142839
CREATED:20250602T171114Z
LAST-MODIFIED:20250611T183841Z
UID:10000301-1754848800-1754852400@lmpc.org
SUMMARY:Merci et Au revoir with Norm and Ruth Ann Leduc
DESCRIPTION:Join us in the fellowship hall to hear from supported missionaries Norm and Ruth Ann as they prepare to return to France following their year-long home mission assignment on Lookout Mountain. Refreshments available.
URL:https://lmpc.org/event/home-mission-report-with-norm-and-ruth-ann-leduc/
LOCATION:Fellowship Hall
ATTACH;FMTTYPE=image/png:https://lmpc.org/wp-content/uploads/2025/06/Summer-Missions-Series-WEB.png
END:VEVENT
BEGIN:VEVENT
DTSTART;VALUE=DATE:20250817
DTEND;VALUE=DATE:20250908
DTSTAMP:20260419T142839
CREATED:20250812T135629Z
LAST-MODIFIED:20250829T131621Z
UID:10000306-1755388800-1757289599@lmpc.org
SUMMARY:Build-a-Bag
DESCRIPTION:VIEW LISTS HERE \nJoin our annual Build-a-Bag collection benefitting the Salvation Army. \nPick up a bag in the sanctuary Narthex\, fellowship hall lobby\, or at one of the adult classroom coffee stations. Consult the attached list\, go shopping\, and bring your bag back to the porte-cochere (fellowship hall entrance) on a Sunday morning by September 7. \nIf you need to return your bag during the week\, drop it at the church office building between 9:00 a.m. and 4:00 p.m. \nThank you for making a difference and helping the Salvation Army stock their pantry so those in need may select what they can use for their family.
URL:https://lmpc.org/event/build-a-bag/
LOCATION:Porte cochere
ATTACH;FMTTYPE=image/png:https://lmpc.org/wp-content/uploads/2025/08/BAB-WEB.png
END:VEVENT
BEGIN:VEVENT
DTSTART;TZID=America/New_York:20250817T150000
DTEND;TZID=America/New_York:20250817T170000
DTSTAMP:20260419T142839
CREATED:20230721T154355Z
LAST-MODIFIED:20250722T180037Z
UID:10000044-1755442800-1755450000@lmpc.org
SUMMARY:6th Grade Induction & Ice Cream Olympics
DESCRIPTION:Rising 6th\, 7th\, and 8th graders\, join us to welcome our new 6th graders to youth ministry. It will be very messy\, so dress accordingly and bring a towel to dry off! The 6th graders will be our guests; everyone else\, please bring a half gallon of either vanilla or chocolate ice cream. NO NUTS\, PLEASE. Registration is required on Realm Connect.
URL:https://lmpc.org/event/6th-grade-induction-ice-cream-olympics/
LOCATION:JHYB
ATTACH;FMTTYPE=image/png:https://lmpc.org/wp-content/uploads/2023/07/IC_Olympics24_presentation-002.png
ORGANIZER;CN="Margaret Compton":MAILTO:margaretcompton@lmpc.org
END:VEVENT
BEGIN:VEVENT
DTSTART;TZID=America/New_York:20250819T183000
DTEND;TZID=America/New_York:20250819T200000
DTSTAMP:20260419T142839
CREATED:20230818T151747Z
LAST-MODIFIED:20250815T132839Z
UID:10000041-1755628200-1755633600@lmpc.org
SUMMARY:Women's Discipleship Fall Kickoff
DESCRIPTION:We will gather for an evening of fellowship\, food\, and worship at Lookout Mountain Pizza Company as we prepare for a year of growth together. Please register on Realm Connect. Gluten-free and dairy-free options available.
URL:https://lmpc.org/event/womens-discipleship-fall-kickoff/
LOCATION:Lookout Mountain Pizza Company\, 203 Scenic Highway\, Rising Fawn\, GA\, 30738
ATTACH;FMTTYPE=image/png:https://lmpc.org/wp-content/uploads/2023/07/womens-discipleship-fall-web-image-1.png
END:VEVENT
BEGIN:VEVENT
DTSTART;TZID=America/New_York:20250824T100000
DTEND;TZID=America/New_York:20250824T190000
DTSTAMP:20260419T142839
CREATED:20230714T172615Z
LAST-MODIFIED:20250801T143053Z
UID:10000042-1756029600-1756062000@lmpc.org
SUMMARY:9th Grade Induction & Rafting the Ocoee
DESCRIPTION:Rising 9th through rising 12th grade students are invited to meet us at JHYB to go rafting on the Ocoee River. Please see registration on Realm Connect for more details including release forms and a list of what to bring. Your payment and waiver will reserve your spot. \nThis event fills up fast. If you need to join the waiting list\, click here.
URL:https://lmpc.org/event/rafting-the-ocoee/
LOCATION:JHYB
ATTACH;FMTTYPE=image/png:https://lmpc.org/wp-content/uploads/2023/07/HS_Rafting2024_presentation.png
END:VEVENT
BEGIN:VEVENT
DTSTART;TZID=America/New_York:20250826T183000
DTEND;TZID=America/New_York:20250826T203000
DTSTAMP:20260419T142839
CREATED:20250811T184045Z
LAST-MODIFIED:20250814T154737Z
UID:10000043-1756233000-1756240200@lmpc.org
SUMMARY:VIP Movie Night
DESCRIPTION:Come enjoy an evening of fellowship\, popcorn\, and the movie The Guernsey Literary and Potato Peel Pie Society with friends. No registration required. The VIP group is made up of mostly retired adults (ages 65+) from LMPC and the community who meet monthly for fun and fellowship.
URL:https://lmpc.org/event/vip-movie-night/
LOCATION:Room 213
ATTACH;FMTTYPE=image/png:https://lmpc.org/wp-content/uploads/2025/08/VIP-Movie-WEB.png
ORGANIZER;CN="Tim Sorrell":MAILTO:tdsorrell88@gmail.com
END:VEVENT
END:VCALENDAR