BEGIN:VCALENDAR
VERSION:2.0
PRODID:-//Lookout Mountain Presbyterian Church - ECPv6.13.0//NONSGML v1.0//EN
CALSCALE:GREGORIAN
METHOD:PUBLISH
X-WR-CALNAME:Lookout Mountain Presbyterian Church
X-ORIGINAL-URL:https://lmpc.org
X-WR-CALDESC:Events for Lookout Mountain Presbyterian Church
REFRESH-INTERVAL;VALUE=DURATION:PT1H
X-Robots-Tag:noindex
X-PUBLISHED-TTL:PT1H
BEGIN:VTIMEZONE
TZID:America/New_York
BEGIN:DAYLIGHT
TZOFFSETFROM:-0500
TZOFFSETTO:-0400
TZNAME:EDT
DTSTART:20250309T070000
END:DAYLIGHT
BEGIN:STANDARD
TZOFFSETFROM:-0400
TZOFFSETTO:-0500
TZNAME:EST
DTSTART:20251102T060000
END:STANDARD
END:VTIMEZONE
BEGIN:VTIMEZONE
TZID:America/New_York
BEGIN:DAYLIGHT
TZOFFSETFROM:-0500
TZOFFSETTO:-0400
TZNAME:EDT
DTSTART:20250309T070000
END:DAYLIGHT
BEGIN:STANDARD
TZOFFSETFROM:-0400
TZOFFSETTO:-0500
TZNAME:EST
DTSTART:20251102T060000
END:STANDARD
END:VTIMEZONE
BEGIN:VEVENT
DTSTART;TZID=America/New_York:20251004T100000
DTEND;TZID=America/New_York:20251004T120000
DTSTAMP:20260420T004721
CREATED:20231003T143418Z
LAST-MODIFIED:20250916T200017Z
UID:10000119-1759572000-1759579200@lmpc.org
SUMMARY:Surviving the Holidays
DESCRIPTION:Will the impending holiday season be difficult for you because you have lost a loved one? Come to “Surviving the Holidays” for a supportive grief seminar. Please register on Realm Connect.
URL:https://lmpc.org/event/surviving-the-holidays/
LOCATION:Room 211
ATTACH;FMTTYPE=image/png:https://lmpc.org/wp-content/uploads/2023/10/surviving-the-holidays-web-image.png
ORGANIZER;CN="Ed Salter":MAILTO:edwardsalter815@gmail.com
END:VEVENT
BEGIN:VEVENT
DTSTART;TZID=America/New_York:20251016T173000
DTEND;TZID=America/New_York:20251016T200000
DTSTAMP:20260420T004721
CREATED:20250924T182337Z
LAST-MODIFIED:20250924T182337Z
UID:10000309-1760635800-1760644800@lmpc.org
SUMMARY:VIP Fall Event
DESCRIPTION:VIPs\, join us for a fall gathering including a hearty meal\, friendly faces\, and hymn singing. If you wish\, bring sweaters\, jackets\, or blankets to donate to Vision of Mercy and the Salvation Army. Please register on Realm Connect or by calling the church office by Oct. 12. The VIP group is made up of mostly retired adults (ages 65+) from LMPC and the community.
URL:https://lmpc.org/event/vip-fall-event/
LOCATION:JHYB
ATTACH;FMTTYPE=image/png:https://lmpc.org/wp-content/uploads/2025/09/VIP-fall-event-PIC.png
ORGANIZER;CN="Kerry Sorrell":MAILTO:kasorrelli@gmail.com
END:VEVENT
BEGIN:VEVENT
DTSTART;TZID=America/New_York:20251017T190000
DTEND;TZID=America/New_York:20251019T120000
DTSTAMP:20260420T004721
CREATED:20230919T174445Z
LAST-MODIFIED:20250915T192247Z
UID:10000115-1760727600-1760875200@lmpc.org
SUMMARY:Middle School Fall Retreat
DESCRIPTION:Meet at the JHYB to depart (eat dinner before coming\, please). Pickup at JHYB on Sunday. Register and pay through Realm Connect beginning September 16; registration deadline is October 10. You must have a 2025 Medical Release and Permission form on file with our office to attend; this confirms your registration.
URL:https://lmpc.org/event/middle-school-fall-retreat/
LOCATION:Camp Toknowhim
ATTACH;FMTTYPE=image/jpeg:https://lmpc.org/wp-content/uploads/2023/09/MS-fall-retreat-web-image-1.jpg
ORGANIZER;CN="Margaret Compton":MAILTO:margaretcompton@lmpc.org
END:VEVENT
BEGIN:VEVENT
DTSTART;TZID=America/New_York:20251019T170000
DTEND;TZID=America/New_York:20251019T200000
DTSTAMP:20260420T004721
CREATED:20250911T140801Z
LAST-MODIFIED:20251019T193326Z
UID:10000308-1760893200-1760904000@lmpc.org
SUMMARY:RENEW Celebration
DESCRIPTION:Watch the livestream at 5:00 p.m. here. \nJoin us in celebrating the end of our four year capital campaign\, RENEW\, with a worship service at 5:00 p.m.\, followed by a picnic on the grounds. We will give thanks to the Lord and reflect on the past four years. Family-friendly activities will be available for all as we fellowship together. Registration is required on Realm Connect if you plan on attending dinner; please RSVP by Friday\, October 3.
URL:https://lmpc.org/event/renew-celebration/
LOCATION:Sanctuary
ATTACH;FMTTYPE=image/png:https://lmpc.org/wp-content/uploads/2025/09/RENEW-Celebration-WEB.png
ORGANIZER;CN="Margaret Lowery":MAILTO:margaretlowery@lmpc.org
END:VEVENT
BEGIN:VEVENT
DTSTART;TZID=America/New_York:20251021T063000
DTEND;TZID=America/New_York:20251021T074500
DTSTAMP:20260420T004721
CREATED:20230814T121846Z
LAST-MODIFIED:20251010T135940Z
UID:10000048-1761028200-1761032700@lmpc.org
SUMMARY:Men's Breakfast
DESCRIPTION:Enjoy food\, fellowship\, and an encouraging word from Barry Smith\, Metanoia Prison Ministries Regional Director. Invite your friend\, neighbor\, or coworker along. No registration required. \nBarry Smith serves as the Metanoia Prison Ministries Regional Director for the Tennessee Valley Presbytery Region. He is a graduate of Trinity Evangelical Divinity School and Miami International Seminary\, and he is a ruling elder at North Shore Fellowship. He is the author of Grace in the Morning: A former pastor’s memoir of overcoming childhood trauma and addiction and A Study in the Love and Grace of God from Deuteronomy. Barry and his wife\, Gail\, live in Hixson and have eight children and eight grandchildren between them.
URL:https://lmpc.org/event/mens-breakfast/
LOCATION:Fellowship Hall
ATTACH;FMTTYPE=image/png:https://lmpc.org/wp-content/uploads/2023/08/mens-breakfast-web-image.png
ORGANIZER;CN="Jocelyn Christie":MAILTO:jocelyn@lmpc.org
END:VEVENT
BEGIN:VEVENT
DTSTART;TZID=America/New_York:20251025T090000
DTEND;TZID=America/New_York:20251025T130000
DTSTAMP:20260420T004721
CREATED:20250925T170555Z
LAST-MODIFIED:20250925T172630Z
UID:10000310-1761382800-1761397200@lmpc.org
SUMMARY:Women's Semi-Silent Retreat
DESCRIPTION:Get away from the noise and pace of life and join us for a morning away. The day will begin with breakfast\, fellowship\, and a devotional. The remainder of the retreat will be spent in quiet\, alone with the Lord and enjoying his beautiful creation. Please register on Realm Connect for $25. Space is limited.
URL:https://lmpc.org/event/womens-semi-silent-retreat/
LOCATION:Rising Fawn Gardens
ATTACH;FMTTYPE=image/png:https://lmpc.org/wp-content/uploads/2025/09/semi-silent-retreat-WEB.png
END:VEVENT
BEGIN:VEVENT
DTSTART;TZID=America/New_York:20251026T180000
DTEND;TZID=America/New_York:20251026T193000
DTSTAMP:20260420T004721
CREATED:20230918T144929Z
LAST-MODIFIED:20251003T165554Z
UID:10000116-1761501600-1761507000@lmpc.org
SUMMARY:Reformation Hymn Festival
DESCRIPTION:Please join with us as we observe Reformation Day with fellow believers throughout the community. A festival choir and orchestra comprised of musicians from LMPC\, First Presbyterian\, and Covenant College will lead the congregation in the great hymns of faith. Foundational readings and Scripture will remind us of the important significance of this day. If you would like to sing in the Festival Choir\, please contact Brett Hyberger for information: brett@lmpc.org.
URL:https://lmpc.org/event/reformation-hymn-festival/
LOCATION:First Presbyterian Church\, Chattanooga\, 554 McCallie Ave.\, Chattanooga\, TN\, 37402\, United States
ATTACH;FMTTYPE=image/jpeg:https://lmpc.org/wp-content/uploads/2023/09/gallery.164813.large_.jpg
ORGANIZER;CN="Brett Hyberger":MAILTO:brett@lmpc.org
END:VEVENT
END:VCALENDAR