BEGIN:VCALENDAR
VERSION:2.0
PRODID:-//Lookout Mountain Presbyterian Church - ECPv6.13.0//NONSGML v1.0//EN
CALSCALE:GREGORIAN
METHOD:PUBLISH
X-ORIGINAL-URL:https://lmpc.org
X-WR-CALDESC:Events for Lookout Mountain Presbyterian Church
REFRESH-INTERVAL;VALUE=DURATION:PT1H
X-Robots-Tag:noindex
X-PUBLISHED-TTL:PT1H
BEGIN:VTIMEZONE
TZID:America/New_York
BEGIN:DAYLIGHT
TZOFFSETFROM:-0500
TZOFFSETTO:-0400
TZNAME:EDT
DTSTART:20250309T070000
END:DAYLIGHT
BEGIN:STANDARD
TZOFFSETFROM:-0400
TZOFFSETTO:-0500
TZNAME:EST
DTSTART:20251102T060000
END:STANDARD
END:VTIMEZONE
BEGIN:VTIMEZONE
TZID:America/New_York
BEGIN:DAYLIGHT
TZOFFSETFROM:-0500
TZOFFSETTO:-0400
TZNAME:EDT
DTSTART:20250309T070000
END:DAYLIGHT
BEGIN:STANDARD
TZOFFSETFROM:-0400
TZOFFSETTO:-0500
TZNAME:EST
DTSTART:20251102T060000
END:STANDARD
END:VTIMEZONE
BEGIN:VEVENT
DTSTART;TZID=America/New_York:20251202T190000
DTEND;TZID=America/New_York:20251202T210000
DTSTAMP:20260419T233454
CREATED:20231103T172210Z
LAST-MODIFIED:20251104T010647Z
UID:10000126-1764702000-1764709200@lmpc.org
SUMMARY:Christmas at Canopy
DESCRIPTION:All women of LMPC are invited to celebrate the Christmas season together at Canopy. Snacks are provided with drinks available for purchase; no registration required.
URL:https://lmpc.org/event/christmas-at-canopy/
LOCATION:Canopy\, 815 Scenic Hwy\, Lookout Mountain\, 37350\, United States
ATTACH;FMTTYPE=image/png:https://lmpc.org/wp-content/uploads/2023/11/Christmas-at-Canopy-WEB.png
END:VEVENT
BEGIN:VEVENT
DTSTART;TZID=America/New_York:20251203T174500
DTEND;TZID=America/New_York:20251203T190000
DTSTAMP:20260419T233454
CREATED:20241112T161752Z
LAST-MODIFIED:20251113T153521Z
UID:10000264-1764783900-1764788400@lmpc.org
SUMMARY:Family Night
DESCRIPTION:Join us for our annual family night to enjoy a pizza dinner before playing bingo for prizes! Please register on Realm Connect; regular Wednesday dinner rates apply.
URL:https://lmpc.org/event/christmas-family-bingo/
LOCATION:Fellowship Hall
ATTACH;FMTTYPE=image/png:https://lmpc.org/wp-content/uploads/2024/11/family-night-WEB.png
ORGANIZER;CN="Brennan Griffin":MAILTO:brennan@lmpc.org
END:VEVENT
BEGIN:VEVENT
DTSTART;TZID=America/New_York:20251205T180000
DTEND;TZID=America/New_York:20251205T210000
DTSTAMP:20260419T233454
CREATED:20251104T211602Z
LAST-MODIFIED:20251119T142035Z
UID:10000315-1764957600-1764968400@lmpc.org
SUMMARY:Middle School Progressive Dinner
DESCRIPTION:The most festive time of the year! Dress in tacky or classy attire; there will be a prize for both. Please register on Realm Connect.
URL:https://lmpc.org/event/middle-school-progressive-dinner/
LOCATION:JHYB
ATTACH;FMTTYPE=image/png:https://lmpc.org/wp-content/uploads/2025/11/middle-school-progressive-WEB.png
ORGANIZER;CN="Margaret Compton":MAILTO:margaretcompton@lmpc.org
END:VEVENT
BEGIN:VEVENT
DTSTART;TZID=America/New_York:20251206T080000
DTEND;TZID=America/New_York:20251206T154500
DTSTAMP:20260419T233454
CREATED:20251016T190330Z
LAST-MODIFIED:20251204T193336Z
UID:10000313-1765008000-1765035900@lmpc.org
SUMMARY:Boxes of Blessing
DESCRIPTION:Join us for a community-wide volunteer opportunity! Volunteers will assist with filling food boxes in an assembly-line environment at the Chattanooga Bakery. This year\, three shifts are available:   \n8:00-10:15 a.m.\n10:45 a.m.-1:00 p.m.\n1:30-3:45 p.m.   \nAll ages are welcome\, but this opportunity requires lifting\, standing\, and working an assembly line\, so close supervision of children is required.  \nNOTE: Registration is now closed. If you need to make changes to your registration\, please call the church office at 423-821-4528.
URL:https://lmpc.org/event/boxes-of-blessing/
LOCATION:Chattanooga Bakery\, 900 Manufacturers Road\, Chattanooga\, TN\, 37401\, United States
ATTACH;FMTTYPE=image/png:https://lmpc.org/wp-content/uploads/2025/10/Boxes-of-Blessing-Slides-Main-Event-Realm.png
END:VEVENT
BEGIN:VEVENT
DTSTART;TZID=America/New_York:20251207T180000
DTEND;TZID=America/New_York:20251207T190000
DTSTAMP:20260419T233454
CREATED:20231121T182603Z
LAST-MODIFIED:20251030T160837Z
UID:10000131-1765130400-1765134000@lmpc.org
SUMMARY:Christmas Hymn Sing
DESCRIPTION:All are invited to our Christmas Hymn Sing. Weather permitting\, we will have heaters and a fire pit outside! Nursery will be provided.
URL:https://lmpc.org/event/christmas-hymn-sing/
LOCATION:Fellowship Hall
ATTACH;FMTTYPE=image/jpeg:https://lmpc.org/wp-content/uploads/2023/11/D6C_9096.jpg
END:VEVENT
BEGIN:VEVENT
DTSTART;TZID=America/New_York:20251209T120000
DTEND;TZID=America/New_York:20251209T130000
DTSTAMP:20260419T233454
CREATED:20231114T195922Z
LAST-MODIFIED:20251113T175821Z
UID:10000128-1765281600-1765285200@lmpc.org
SUMMARY:VIP Christmas Luncheon
DESCRIPTION:Come join us for the Annual Christmas Luncheon; we will gather at noon for lunch and fellowship with a special children’s ensemble at 12:45. \nPlease make your reservation early by registering no later than Thursday\, December 4  on Realm Connect or by calling the church office. \nThe VIPs are a group of mostly retired adults who meet monthly for fun and fellowship.
URL:https://lmpc.org/event/vip-christmas-luncheon/
LOCATION:Fellowship Hall
ATTACH;FMTTYPE=image/jpeg:https://lmpc.org/wp-content/uploads/2023/11/vip-Christmas-Luncheon.jpg
ORGANIZER;CN="Tim Sorrell":MAILTO:tdsorrell88@gmail.com
END:VEVENT
BEGIN:VEVENT
DTSTART;TZID=America/New_York:20251212T180000
DTEND;TZID=America/New_York:20251212T213000
DTSTAMP:20260419T233454
CREATED:20231101T144024Z
LAST-MODIFIED:20251107T195203Z
UID:10000122-1765562400-1765575000@lmpc.org
SUMMARY:High School Progressive Dinner
DESCRIPTION:Wear your Christmas best for food and games! RSVP by Monday\, December 8 on Realm Connect. Parents\, we need your help with this event; please sign up here to help.
URL:https://lmpc.org/event/high-school-progressive-dinner/
LOCATION:JHYB
ATTACH;FMTTYPE=image/png:https://lmpc.org/wp-content/uploads/2023/10/HS_ProgDinner-Presentation.png
ORGANIZER;CN="Annie Darby":MAILTO:annie@lmpc.org
END:VEVENT
BEGIN:VEVENT
DTSTART;VALUE=DATE:20251214
DTEND;VALUE=DATE:20251215
DTSTAMP:20260419T233454
CREATED:20231114T192820Z
LAST-MODIFIED:20251017T141004Z
UID:10000129-1765670400-1765756799@lmpc.org
SUMMARY:Christmas Flowers
DESCRIPTION:If you would like to make a contribution toward Christmas flowers in memory or in honor of a loved one\, please do so through Realm Connect\, beginning November 17. For more information\, please call the church office or email margaretcompton@lmpc.org.
URL:https://lmpc.org/event/christmasflowers/
ATTACH;FMTTYPE=image/png:https://lmpc.org/wp-content/uploads/2023/11/christmas-flowers-web-image.png
ORGANIZER;CN="Margaret Compton":MAILTO:margaretcompton@lmpc.org
END:VEVENT
BEGIN:VEVENT
DTSTART;TZID=America/New_York:20251214T170000
DTEND;TZID=America/New_York:20251214T180000
DTSTAMP:20260419T233454
CREATED:20251030T174011Z
LAST-MODIFIED:20251030T174011Z
UID:10000317-1765731600-1765735200@lmpc.org
SUMMARY:Christmas Concert
DESCRIPTION:Come enjoy the sounds of the season with our Chancel Choir\, Girls’ Ensemble\, Children’s Choir\, and Handbell Choir! Nursery is provided.
URL:https://lmpc.org/event/christmas-concert/
LOCATION:Sanctuary
ATTACH;FMTTYPE=image/jpeg:https://lmpc.org/wp-content/uploads/2025/10/DSC_6797.jpg
ORGANIZER;CN="Brett Hyberger":MAILTO:brett@lmpc.org
END:VEVENT
BEGIN:VEVENT
DTSTART;TZID=America/New_York:20251221T133000
DTEND;TZID=America/New_York:20251221T161500
DTSTAMP:20260419T233454
CREATED:20231121T183057Z
LAST-MODIFIED:20251204T205207Z
UID:10000134-1766323800-1766333700@lmpc.org
SUMMARY:Christmas Caroling
DESCRIPTION:Bring your family or small group and go caroling at 1:30 p.m. at Morning Pointe at Happy Valley or 3:15 p.m. at Thrive at Brow Wood. Or\, come to both! \nPlease register on Realm Connect.
URL:https://lmpc.org/event/christmas-caroling/
ATTACH;FMTTYPE=image/png:https://lmpc.org/wp-content/uploads/2023/11/Caroling-web-image.png
ORGANIZER;CN="Jocelyn Christie":MAILTO:jocelyn@lmpc.org
END:VEVENT
BEGIN:VEVENT
DTSTART;TZID=America/New_York:20251224T150000
DTEND;TZID=America/New_York:20251224T160000
DTSTAMP:20260419T233454
CREATED:20251201T155244Z
LAST-MODIFIED:20251201T155244Z
UID:10000330-1766588400-1766592000@lmpc.org
SUMMARY:Christmas Eve Service
DESCRIPTION:Join us for Christmas Eve services on Wednesday\, December 24. Services will be held at 3:00 and 5:00 p.m. in both the sanctuary and fellowship hall. Nursery is provided during both times. Overflow seating will be available in the chapel from the sanctuary as needed. The 5:00 p.m. service will be livestreamed. \n 
URL:https://lmpc.org/event/christmas-eve-service-2/2025-12-24/1/
LOCATION:Sanctuary & Fellowship Hall
ATTACH;FMTTYPE=image/png:https://lmpc.org/wp-content/uploads/2025/12/Christmas-events-2026-WEB.png
END:VEVENT
BEGIN:VEVENT
DTSTART;TZID=America/New_York:20251224T170000
DTEND;TZID=America/New_York:20251224T180000
DTSTAMP:20260419T233454
CREATED:20251201T155244Z
LAST-MODIFIED:20251201T155244Z
UID:10000331-1766595600-1766599200@lmpc.org
SUMMARY:Christmas Eve Service
DESCRIPTION:Join us for Christmas Eve services on Wednesday\, December 24. Services will be held at 3:00 and 5:00 p.m. in both the sanctuary and fellowship hall. Nursery is provided during both times. Overflow seating will be available in the chapel from the sanctuary as needed. The 5:00 p.m. service will be livestreamed. \n 
URL:https://lmpc.org/event/christmas-eve-service-2/2025-12-24/2/
LOCATION:Sanctuary & Fellowship Hall
ATTACH;FMTTYPE=image/png:https://lmpc.org/wp-content/uploads/2025/12/Christmas-events-2026-WEB.png
END:VEVENT
END:VCALENDAR