BEGIN:VCALENDAR
VERSION:2.0
PRODID:-//Lookout Mountain Presbyterian Church - ECPv6.13.0//NONSGML v1.0//EN
CALSCALE:GREGORIAN
METHOD:PUBLISH
X-WR-CALNAME:Lookout Mountain Presbyterian Church
X-ORIGINAL-URL:https://lmpc.org
X-WR-CALDESC:Events for Lookout Mountain Presbyterian Church
REFRESH-INTERVAL;VALUE=DURATION:PT1H
X-Robots-Tag:noindex
X-PUBLISHED-TTL:PT1H
BEGIN:VTIMEZONE
TZID:UTC
BEGIN:STANDARD
TZOFFSETFROM:+0000
TZOFFSETTO:+0000
TZNAME:UTC
DTSTART:20260101T000000
END:STANDARD
END:VTIMEZONE
BEGIN:VTIMEZONE
TZID:America/New_York
BEGIN:DAYLIGHT
TZOFFSETFROM:-0500
TZOFFSETTO:-0400
TZNAME:EDT
DTSTART:20260308T070000
END:DAYLIGHT
BEGIN:STANDARD
TZOFFSETFROM:-0400
TZOFFSETTO:-0500
TZNAME:EST
DTSTART:20261101T060000
END:STANDARD
END:VTIMEZONE
BEGIN:VEVENT
DTSTART;TZID=UTC:20260104T100000
DTEND;TZID=UTC:20260104T104500
DTSTAMP:20260419T231220
CREATED:20230606T225316Z
LAST-MODIFIED:20260105T215049Z
UID:10000319-1767520800-1767523500@lmpc.org
SUMMARY:Intro to LMPC
DESCRIPTION:Are you interested in joining LMPC? For this session\, our membership class will run as an adult elective during the Sunday School hour at 10:00 a.m. from January 4 through March 1. Please register on Realm Connect by December 23.
URL:https://lmpc.org/event/intro-to-lmpc/2026-01-04/
LOCATION:Conference Room
ATTACH;FMTTYPE=image/png:https://lmpc.org/wp-content/uploads/2023/06/Intro-image-for-website.png
ORGANIZER;CN="Julie Dean":MAILTO:julie@lmpc.org
END:VEVENT
BEGIN:VEVENT
DTSTART;VALUE=DATE:20260107
DTEND;VALUE=DATE:20260112
DTSTAMP:20260419T231220
CREATED:20231201T184520Z
LAST-MODIFIED:20251229T163733Z
UID:10000138-1767744000-1768175999@lmpc.org
SUMMARY:High School Salt & Light Retreat
DESCRIPTION:Join us for the LMPC High School Youth In-town Winter Retreat. Below is the schedule. \nWednesday\, January 7 / 7:30-8:30 p.m. evening gathering at the Jane Harris Youth Building\nThursday\, January 8 / 6:30-7:30 a.m. breakfast at the Jane Harris Youth Building\nFriday\, January 9 / 7:00-9:00 p.m. evening gathering at the Hilgers’ home\nSaturday\, January 10 / 9:00-11 a.m. guys at the Lindquists’ home & girls at the Jane Harris Youth Building\nSunday\, January 11 / 7:30-8:30 p.m. youth group at the Jane Harris Youth Building
URL:https://lmpc.org/event/high-school-salt-light-retreat/
LOCATION:JHYB
ATTACH;FMTTYPE=image/png:https://lmpc.org/wp-content/uploads/2023/12/Salt-and-light-retreat-web-image.png
END:VEVENT
BEGIN:VEVENT
DTSTART;TZID=UTC:20260111T100000
DTEND;TZID=UTC:20260111T104500
DTSTAMP:20260419T231220
CREATED:20230606T225316Z
LAST-MODIFIED:20260105T215049Z
UID:10000320-1768125600-1768128300@lmpc.org
SUMMARY:Intro to LMPC
DESCRIPTION:Are you interested in joining LMPC? For this session\, our membership class will run as an adult elective during the Sunday School hour at 10:00 a.m. from January 4 through March 1. Please register on Realm Connect by December 23.
URL:https://lmpc.org/event/intro-to-lmpc/2026-01-11/
LOCATION:Conference Room
ATTACH;FMTTYPE=image/png:https://lmpc.org/wp-content/uploads/2023/06/Intro-image-for-website.png
ORGANIZER;CN="Julie Dean":MAILTO:julie@lmpc.org
END:VEVENT
BEGIN:VEVENT
DTSTART;TZID=UTC:20260118T100000
DTEND;TZID=UTC:20260118T104500
DTSTAMP:20260419T231220
CREATED:20230606T225316Z
LAST-MODIFIED:20260105T215049Z
UID:10000321-1768730400-1768733100@lmpc.org
SUMMARY:Intro to LMPC
DESCRIPTION:Are you interested in joining LMPC? For this session\, our membership class will run as an adult elective during the Sunday School hour at 10:00 a.m. from January 4 through March 1. Please register on Realm Connect by December 23.
URL:https://lmpc.org/event/intro-to-lmpc/2026-01-18/
LOCATION:Conference Room
ATTACH;FMTTYPE=image/png:https://lmpc.org/wp-content/uploads/2023/06/Intro-image-for-website.png
ORGANIZER;CN="Julie Dean":MAILTO:julie@lmpc.org
END:VEVENT
BEGIN:VEVENT
DTSTART;TZID=UTC:20260125T100000
DTEND;TZID=UTC:20260125T104500
DTSTAMP:20260419T231220
CREATED:20230606T225316Z
LAST-MODIFIED:20260105T215049Z
UID:10000322-1769335200-1769337900@lmpc.org
SUMMARY:Intro to LMPC
DESCRIPTION:Are you interested in joining LMPC? For this session\, our membership class will run as an adult elective during the Sunday School hour at 10:00 a.m. from January 4 through March 1. Please register on Realm Connect by December 23.
URL:https://lmpc.org/event/intro-to-lmpc/2026-01-25/
LOCATION:Conference Room
ATTACH;FMTTYPE=image/png:https://lmpc.org/wp-content/uploads/2023/06/Intro-image-for-website.png
ORGANIZER;CN="Julie Dean":MAILTO:julie@lmpc.org
END:VEVENT
BEGIN:VEVENT
DTSTART;TZID=America/New_York:20260130T183000
DTEND;TZID=America/New_York:20260130T220000
DTSTAMP:20260419T231220
CREATED:20240109T212056Z
LAST-MODIFIED:20260115T150231Z
UID:10000145-1769797800-1769810400@lmpc.org
SUMMARY:Middle School Tacky Bowling
DESCRIPTION:Come to the JHYB for dinner at 6:30\, and then we’ll go bowling. Cost includes dinner and shoe rental; bring your own socks. Register on Realm Connect by January 28.
URL:https://lmpc.org/event/middle-school-tacky-bowling/
LOCATION:JHYB
ATTACH;FMTTYPE=image/png:https://lmpc.org/wp-content/uploads/2024/01/Tacky-Bowling-WEB-1.png
ORGANIZER;CN="Margaret Compton":MAILTO:margaretcompton@lmpc.org
END:VEVENT
END:VCALENDAR