BEGIN:VCALENDAR
VERSION:2.0
PRODID:-//Lookout Mountain Presbyterian Church - ECPv6.13.0//NONSGML v1.0//EN
CALSCALE:GREGORIAN
METHOD:PUBLISH
X-ORIGINAL-URL:https://lmpc.org
X-WR-CALDESC:Events for Lookout Mountain Presbyterian Church
REFRESH-INTERVAL;VALUE=DURATION:PT1H
X-Robots-Tag:noindex
X-PUBLISHED-TTL:PT1H
BEGIN:VTIMEZONE
TZID:America/New_York
BEGIN:DAYLIGHT
TZOFFSETFROM:-0500
TZOFFSETTO:-0400
TZNAME:EDT
DTSTART:20260308T070000
END:DAYLIGHT
BEGIN:STANDARD
TZOFFSETFROM:-0400
TZOFFSETTO:-0500
TZNAME:EST
DTSTART:20261101T060000
END:STANDARD
END:VTIMEZONE
BEGIN:VTIMEZONE
TZID:UTC
BEGIN:STANDARD
TZOFFSETFROM:+0000
TZOFFSETTO:+0000
TZNAME:UTC
DTSTART:20260101T000000
END:STANDARD
END:VTIMEZONE
BEGIN:VTIMEZONE
TZID:America/New_York
BEGIN:DAYLIGHT
TZOFFSETFROM:-0500
TZOFFSETTO:-0400
TZNAME:EDT
DTSTART:20260308T070000
END:DAYLIGHT
BEGIN:STANDARD
TZOFFSETFROM:-0400
TZOFFSETTO:-0500
TZNAME:EST
DTSTART:20261101T060000
END:STANDARD
END:VTIMEZONE
BEGIN:VEVENT
DTSTART;TZID=America/New_York:20260227T183000
DTEND;TZID=America/New_York:20260301T104500
DTSTAMP:20260420T041842
CREATED:20240103T203700Z
LAST-MODIFIED:20260116T172535Z
UID:10000143-1772217000-1772361900@lmpc.org
SUMMARY:Youth Communicant Class
DESCRIPTION:This class is for youth in grades 6-12th who are interested in joining LMPC and will be held February 27-March 1: Friday evening\, Saturday morning\, and Sunday during the 10:00 a.m. Sunday School hour. Please register on Realm Connect by February 20. Email Margaret Compton with any questions at margaretcompton@lmpc.org. \nIf you are considering LMPC membership\, please complete the Statement of Intent form. \nThe communicant’s process for elementary students is a different structure. If your elementary child is asking questions about church membership\, please contact Jocelyn Christie at jocelyn@lmpc.org.
URL:https://lmpc.org/event/youth-communicant-class/
LOCATION:JHYB Middle School Room
ATTACH;FMTTYPE=image/png:https://lmpc.org/wp-content/uploads/2024/01/communicant-class-WEB.png
ORGANIZER;CN="Margaret Compton":MAILTO:margaretcompton@lmpc.org
END:VEVENT
BEGIN:VEVENT
DTSTART;TZID=UTC:20260301T100000
DTEND;TZID=UTC:20260301T104500
DTSTAMP:20260420T041842
CREATED:20230606T225316Z
LAST-MODIFIED:20260105T215049Z
UID:10000332-1772359200-1772361900@lmpc.org
SUMMARY:Intro to LMPC
DESCRIPTION:Are you interested in joining LMPC? For this session\, our membership class will run as an adult elective during the Sunday School hour at 10:00 a.m. from January 4 through March 1. Please register on Realm Connect by December 23.
URL:https://lmpc.org/event/intro-to-lmpc/2026-03-01/
LOCATION:Conference Room
ATTACH;FMTTYPE=image/png:https://lmpc.org/wp-content/uploads/2023/06/Intro-image-for-website.png
ORGANIZER;CN="Julie Dean":MAILTO:julie@lmpc.org
END:VEVENT
BEGIN:VEVENT
DTSTART;TZID=America/New_York:20260301T180000
DTEND;TZID=America/New_York:20260301T190000
DTSTAMP:20260420T041842
CREATED:20250116T145616Z
LAST-MODIFIED:20260211T204815Z
UID:10000277-1772388000-1772391600@lmpc.org
SUMMARY:Q&A Panel: Why India?
DESCRIPTION:Join us for a time of Q&A as we explore God’s work in India through our partner\, Mission India.
URL:https://lmpc.org/event/qa-panel/
LOCATION:Fellowship Hall
ATTACH;FMTTYPE=image/png:https://lmpc.org/wp-content/uploads/2025/01/LOGO-Spotlight-on-India-white-background.png
END:VEVENT
BEGIN:VEVENT
DTSTART;TZID=America/New_York:20260303T064500
DTEND;TZID=America/New_York:20260303T080000
DTSTAMP:20260420T041842
CREATED:20250116T145329Z
LAST-MODIFIED:20260212T180241Z
UID:10000278-1772520300-1772524800@lmpc.org
SUMMARY:Men's Breakfast: Stories from the Field
DESCRIPTION:Gather for a meal and time of fellowship to hear stories from Mission India. No registration is required.
URL:https://lmpc.org/event/mens-breakfast-stories-from-the-field/
LOCATION:JHYB
ATTACH;FMTTYPE=image/png:https://lmpc.org/wp-content/uploads/2025/01/LOGO-Spotlight-on-India-white-background.png
END:VEVENT
BEGIN:VEVENT
DTSTART;TZID=America/New_York:20260303T113000
DTEND;TZID=America/New_York:20260303T130000
DTSTAMP:20260420T041842
CREATED:20250116T145548Z
LAST-MODIFIED:20260209T181055Z
UID:10000279-1772537400-1772542800@lmpc.org
SUMMARY:Missions Luncheon: Prayer & Persecution
DESCRIPTION:Enjoy lunch and time with our guests from Mission India. Please register on Realm Connect. There is a suggested donation of $5 to attend the lunch\, accepted at the door.
URL:https://lmpc.org/event/missions-luncheon/
LOCATION:Fellowship Hall
ATTACH;FMTTYPE=image/png:https://lmpc.org/wp-content/uploads/2025/01/LOGO-Spotlight-on-India-white-background.png
END:VEVENT
BEGIN:VEVENT
DTSTART;TZID=America/New_York:20260303T183000
DTEND;TZID=America/New_York:20260303T203000
DTSTAMP:20260420T041842
CREATED:20260203T141622Z
LAST-MODIFIED:20260203T141622Z
UID:10000343-1772562600-1772569800@lmpc.org
SUMMARY:The Marriage Course
DESCRIPTION:Are you ready to renew your marriage? Whether you are newlyweds or have been married many years\, the Marriage Course can help you strengthen your communication and grow your relationship. This seven-week course is a video series where each couple sits at their own table and interacts only with each other. The cost is $50 per couple and dessert will be provided. Please register on Realm Connect by February 2.
URL:https://lmpc.org/event/the-marriage-course/2026-03-03/
LOCATION:Room 211
ATTACH;FMTTYPE=image/png:https://lmpc.org/wp-content/uploads/2023/10/marriage-course-WEB.png
ORGANIZER;CN="Larry Goodman":MAILTO:ldgoodman@sbcglobal.net
END:VEVENT
BEGIN:VEVENT
DTSTART;TZID=America/New_York:20260304T173000
DTEND;TZID=America/New_York:20260304T190000
DTSTAMP:20260420T041842
CREATED:20250116T145456Z
LAST-MODIFIED:20260209T180618Z
UID:10000281-1772645400-1772650800@lmpc.org
SUMMARY:Family Dinner: What's Next?
DESCRIPTION:Join us for this family event where we’ll learn about what’s next for India as we conclude our World Missions Conference. Please register on Realm Connect; regular Wednesday dinner costs apply. Nursery is provided.
URL:https://lmpc.org/event/family-dinner-exploring-central-asia/
LOCATION:Fellowship Hall
ATTACH;FMTTYPE=image/png:https://lmpc.org/wp-content/uploads/2025/01/LOGO-Spotlight-on-India-white-background.png
END:VEVENT
BEGIN:VEVENT
DTSTART;TZID=America/New_York:20260310T183000
DTEND;TZID=America/New_York:20260310T203000
DTSTAMP:20260420T041842
CREATED:20260203T141622Z
LAST-MODIFIED:20260203T141622Z
UID:10000344-1773167400-1773174600@lmpc.org
SUMMARY:The Marriage Course
DESCRIPTION:Are you ready to renew your marriage? Whether you are newlyweds or have been married many years\, the Marriage Course can help you strengthen your communication and grow your relationship. This seven-week course is a video series where each couple sits at their own table and interacts only with each other. The cost is $50 per couple and dessert will be provided. Please register on Realm Connect by February 2.
URL:https://lmpc.org/event/the-marriage-course/2026-03-10/
LOCATION:Room 211
ATTACH;FMTTYPE=image/png:https://lmpc.org/wp-content/uploads/2023/10/marriage-course-WEB.png
ORGANIZER;CN="Larry Goodman":MAILTO:ldgoodman@sbcglobal.net
END:VEVENT
BEGIN:VEVENT
DTSTART;TZID=America/New_York:20260313T180000
DTEND;TZID=America/New_York:20260314T100000
DTSTAMP:20260420T041842
CREATED:20240112T171021Z
LAST-MODIFIED:20260217T214049Z
UID:10000147-1773424800-1773482400@lmpc.org
SUMMARY:Middle School Girls Retreat
DESCRIPTION:We will enjoy an overnight retreat at the Jane Harris Youth Building! Packing list: Bible\, journal/notebook\, sleeping bag\, pillow\, sleeping pad\, clothes for overnight and toothbrush. Please register on Realm Connect by March 11.
URL:https://lmpc.org/event/middle-school-girls-retreat/
LOCATION:JHYB
ATTACH;FMTTYPE=image/png:https://lmpc.org/wp-content/uploads/2024/01/MS-Girls-Retreat-2026-WEB.png
ORGANIZER;CN="Margaret Compton":MAILTO:margaretcompton@lmpc.org
END:VEVENT
BEGIN:VEVENT
DTSTART;TZID=America/New_York:20260317T183000
DTEND;TZID=America/New_York:20260317T203000
DTSTAMP:20260420T041842
CREATED:20260203T141622Z
LAST-MODIFIED:20260203T141622Z
UID:10000345-1773772200-1773779400@lmpc.org
SUMMARY:The Marriage Course
DESCRIPTION:Are you ready to renew your marriage? Whether you are newlyweds or have been married many years\, the Marriage Course can help you strengthen your communication and grow your relationship. This seven-week course is a video series where each couple sits at their own table and interacts only with each other. The cost is $50 per couple and dessert will be provided. Please register on Realm Connect by February 2.
URL:https://lmpc.org/event/the-marriage-course/2026-03-17/
LOCATION:Room 211
ATTACH;FMTTYPE=image/png:https://lmpc.org/wp-content/uploads/2023/10/marriage-course-WEB.png
ORGANIZER;CN="Larry Goodman":MAILTO:ldgoodman@sbcglobal.net
END:VEVENT
BEGIN:VEVENT
DTSTART;TZID=America/New_York:20260320T180000
DTEND;TZID=America/New_York:20260321T100000
DTSTAMP:20260420T041842
CREATED:20240118T202310Z
LAST-MODIFIED:20260227T134407Z
UID:10000150-1774029600-1774087200@lmpc.org
SUMMARY:Middle School Guys Retreat
DESCRIPTION:We will enjoy an overnight retreat in the Jane Harris Youth Building! Packing list: Bible\, journal/notebook\, sleeping bag\, pillow\, sleeping pad\, clothes for overnight\, and toothbrush. Please register on Realm Connect by March 18.
URL:https://lmpc.org/event/middle-school-guys-retreat/
LOCATION:JHYB
ATTACH;FMTTYPE=image/png:https://lmpc.org/wp-content/uploads/2024/01/MS-Guys-Retreat-2026-WEB.png
ORGANIZER;CN="Margaret Compton":MAILTO:margaretcompton@lmpc.org
END:VEVENT
BEGIN:VEVENT
DTSTART;VALUE=DATE:20260323
DTEND;VALUE=DATE:20260324
DTSTAMP:20260420T041842
CREATED:20240228T210649Z
LAST-MODIFIED:20260303T202018Z
UID:10000154-1774224000-1774310399@lmpc.org
SUMMARY:Easter Flowers
DESCRIPTION:To make a contribution toward Easter lilies to be placed in the fellowship hall or sanctuary in honor of a loved one\, please do so through Realm Connect by March 23. For more information\, please call the church office.
URL:https://lmpc.org/event/easter-flowers/
ATTACH;FMTTYPE=image/png:https://lmpc.org/wp-content/uploads/2024/02/Easter_Flowers2025_realmweb.png
ORGANIZER;CN="Margaret Compton":MAILTO:margaretcompton@lmpc.org
END:VEVENT
END:VCALENDAR