BEGIN:VCALENDAR
VERSION:2.0
PRODID:-//Lookout Mountain Presbyterian Church - ECPv6.13.0//NONSGML v1.0//EN
CALSCALE:GREGORIAN
METHOD:PUBLISH
X-ORIGINAL-URL:https://lmpc.org
X-WR-CALDESC:Events for Lookout Mountain Presbyterian Church
REFRESH-INTERVAL;VALUE=DURATION:PT1H
X-Robots-Tag:noindex
X-PUBLISHED-TTL:PT1H
BEGIN:VTIMEZONE
TZID:America/New_York
BEGIN:DAYLIGHT
TZOFFSETFROM:-0500
TZOFFSETTO:-0400
TZNAME:EDT
DTSTART:20260308T070000
END:DAYLIGHT
BEGIN:STANDARD
TZOFFSETFROM:-0400
TZOFFSETTO:-0500
TZNAME:EST
DTSTART:20261101T060000
END:STANDARD
END:VTIMEZONE
BEGIN:VEVENT
DTSTART;VALUE=DATE:20260706
DTEND;VALUE=DATE:20260711
DTSTAMP:20260421T014754
CREATED:20250320T140617Z
LAST-MODIFIED:20260122T162944Z
UID:10000153-1783296000-1783727999@lmpc.org
SUMMARY:Middle School Camp Kulaqua
DESCRIPTION:Current 6th-8th graders\, join us for a week of camp! Registration begins March 17 on Realm Connect and space is limited and expected to fill quickly. \nA deposit of $300 and a 2026 Medical Release and Permission form are required by May 1 to secure your spot. \nTotal cost is TBD and balance is due by June 1 (non-refundable after that date unless your spot can be filled by someone else). Add a t-shirt for $15.
URL:https://lmpc.org/event/middle-school-camp-kulaqua/
LOCATION:Camp Kulaqua
ATTACH;FMTTYPE=image/png:https://lmpc.org/wp-content/uploads/2024/02/Kulaqua-EMAIL.png
ORGANIZER;CN="Margaret Compton":MAILTO:margaretcompton@lmpc.org
END:VEVENT
END:VCALENDAR