BEGIN:VCALENDAR
VERSION:2.0
PRODID:-//Lookout Mountain Presbyterian Church - ECPv6.13.0//NONSGML v1.0//EN
CALSCALE:GREGORIAN
METHOD:PUBLISH
X-ORIGINAL-URL:https://lmpc.org
X-WR-CALDESC:Events for Lookout Mountain Presbyterian Church
REFRESH-INTERVAL;VALUE=DURATION:PT1H
X-Robots-Tag:noindex
X-PUBLISHED-TTL:PT1H
BEGIN:VTIMEZONE
TZID:UTC
BEGIN:STANDARD
TZOFFSETFROM:+0000
TZOFFSETTO:+0000
TZNAME:UTC
DTSTART:20230101T000000
END:STANDARD
END:VTIMEZONE
BEGIN:VTIMEZONE
TZID:America/New_York
BEGIN:DAYLIGHT
TZOFFSETFROM:-0500
TZOFFSETTO:-0400
TZNAME:EDT
DTSTART:20230312T070000
END:DAYLIGHT
BEGIN:STANDARD
TZOFFSETFROM:-0400
TZOFFSETTO:-0500
TZNAME:EST
DTSTART:20231105T060000
END:STANDARD
END:VTIMEZONE
BEGIN:VEVENT
DTSTART;TZID=UTC:20230911T183000
DTEND;TZID=UTC:20230911T203000
DTSTAMP:20260423T061041
CREATED:20230825T134634Z
LAST-MODIFIED:20230831T160851Z
UID:10000054-1694457000-1694464200@lmpc.org
SUMMARY:VIP Trivia Night & Ice Cream Social
DESCRIPTION:Compete in teams\, enjoy ice cream\, and bring an umbrella to donate to Shepherd’s Arms Rescue Mission. Please register on Realm Connect by Friday\, September 8. The VIP group is made up of mostly retired adults (ages 65+) from LMPC and the community who meet monthly for fun and fellowship.
URL:https://lmpc.org/event/vip-trivia-night-ice-cream-social/
ATTACH;FMTTYPE=image/png:https://lmpc.org/wp-content/uploads/2023/08/lmpc-vip-8.5-×-11-in-Presentation-169.png
END:VEVENT
BEGIN:VEVENT
DTSTART;TZID=America/New_York:20230914T180000
DTEND;TZID=America/New_York:20230914T200000
DTSTAMP:20260423T061041
CREATED:20230824T183113Z
LAST-MODIFIED:20230828T170448Z
UID:10000052-1694714400-1694721600@lmpc.org
SUMMARY:Young Adult Social: Potluck
DESCRIPTION:LMPC young adults (ages 23-40) are invited to the home of Mary & Wil Nettleton for a potluck dinner. Please bring a salad\, side\, or dessert to share. Mary & Wil will provide the meat. Kids are welcome! Register on Realm Connect by Tuesday\, September 12.
URL:https://lmpc.org/event/young-adult-social-potluck/
LOCATION:Nettleton Home
ATTACH;FMTTYPE=image/jpeg:https://lmpc.org/wp-content/uploads/2023/08/young-adult-social-web-image.jpg
END:VEVENT
END:VCALENDAR