BEGIN:VCALENDAR
VERSION:2.0
PRODID:-//Lookout Mountain Presbyterian Church - ECPv6.13.0//NONSGML v1.0//EN
CALSCALE:GREGORIAN
METHOD:PUBLISH
X-ORIGINAL-URL:https://lmpc.org
X-WR-CALDESC:Events for Lookout Mountain Presbyterian Church
REFRESH-INTERVAL;VALUE=DURATION:PT1H
X-Robots-Tag:noindex
X-PUBLISHED-TTL:PT1H
BEGIN:VTIMEZONE
TZID:America/New_York
BEGIN:DAYLIGHT
TZOFFSETFROM:-0500
TZOFFSETTO:-0400
TZNAME:EDT
DTSTART:20240310T070000
END:DAYLIGHT
BEGIN:STANDARD
TZOFFSETFROM:-0400
TZOFFSETTO:-0500
TZNAME:EST
DTSTART:20241103T060000
END:STANDARD
END:VTIMEZONE
BEGIN:VEVENT
DTSTART;TZID=America/New_York:20240417T173000
DTEND;TZID=America/New_York:20240417T190000
DTSTAMP:20260420T023328
CREATED:20240308T135437Z
LAST-MODIFIED:20240328T150137Z
UID:10000159-1713375000-1713380400@lmpc.org
SUMMARY:World Missions Conference Kick-Off Dinner
DESCRIPTION:Join us for dinner and fellowship\, followed by children’s programming concurrent with an adult Q&A session. Nursery is available and registration is required. Register on Realm Connect beginning April 1.
URL:https://lmpc.org/event/world-missions-conference-kick-off-dinner/
LOCATION:Fellowship Hall
ATTACH;FMTTYPE=image/png:https://lmpc.org/wp-content/uploads/2024/03/WMC-2024-WEB-image.png
END:VEVENT
BEGIN:VEVENT
DTSTART;TZID=America/New_York:20240418T120000
DTEND;TZID=America/New_York:20240418T133000
DTSTAMP:20260420T023328
CREATED:20240308T140057Z
LAST-MODIFIED:20240402T131118Z
UID:10000160-1713441600-1713447000@lmpc.org
SUMMARY:Missionary Luncheon
DESCRIPTION:Enjoy lunch while participating in discussion and a Q&A panel with our missionary guests. Register on Realm Connect beginning April 1.  Menu: chicken salad\, croissant\, pasta salad\, dessert.
URL:https://lmpc.org/event/missionary-luncheon/
LOCATION:Fellowship Hall
ATTACH;FMTTYPE=image/png:https://lmpc.org/wp-content/uploads/2024/03/WMC-2024-WEB-image.png
END:VEVENT
BEGIN:VEVENT
DTSTART;TZID=America/New_York:20240420T183000
DTEND;TZID=America/New_York:20240420T200000
DTSTAMP:20260420T023328
CREATED:20240308T140642Z
LAST-MODIFIED:20240328T150438Z
UID:10000161-1713637800-1713643200@lmpc.org
SUMMARY:Dessert Gatherings with Missionaries
DESCRIPTION:Join missionary guests for dessert and conversation in the homes of individuals in our community. Register on Realm Connect beginning April 1. 
URL:https://lmpc.org/event/dessert-gathering-with-missionaries/
LOCATION:Various Homes
ATTACH;FMTTYPE=image/png:https://lmpc.org/wp-content/uploads/2024/03/WMC-2024-WEB-image.png
END:VEVENT
END:VCALENDAR