BEGIN:VCALENDAR
VERSION:2.0
PRODID:-//Lookout Mountain Presbyterian Church - ECPv6.13.0//NONSGML v1.0//EN
CALSCALE:GREGORIAN
METHOD:PUBLISH
X-ORIGINAL-URL:https://lmpc.org
X-WR-CALDESC:Events for Lookout Mountain Presbyterian Church
REFRESH-INTERVAL;VALUE=DURATION:PT1H
X-Robots-Tag:noindex
X-PUBLISHED-TTL:PT1H
BEGIN:VTIMEZONE
TZID:America/New_York
BEGIN:DAYLIGHT
TZOFFSETFROM:-0500
TZOFFSETTO:-0400
TZNAME:EDT
DTSTART:20250309T070000
END:DAYLIGHT
BEGIN:STANDARD
TZOFFSETFROM:-0400
TZOFFSETTO:-0500
TZNAME:EST
DTSTART:20251102T060000
END:STANDARD
END:VTIMEZONE
BEGIN:VTIMEZONE
TZID:America/New_York
BEGIN:DAYLIGHT
TZOFFSETFROM:-0500
TZOFFSETTO:-0400
TZNAME:EDT
DTSTART:20250309T070000
END:DAYLIGHT
BEGIN:STANDARD
TZOFFSETFROM:-0400
TZOFFSETTO:-0500
TZNAME:EST
DTSTART:20251102T060000
END:STANDARD
END:VTIMEZONE
BEGIN:VEVENT
DTSTART;TZID=America/New_York:20250615T090000
DTEND;TZID=America/New_York:20250619T163000
DTSTAMP:20260419T162853
CREATED:20250604T195058Z
LAST-MODIFIED:20250604T195058Z
UID:10000302-1749978000-1750350600@lmpc.org
SUMMARY:Choices Baby Boutique Collection
DESCRIPTION:The Baby Boutique plays a vital role in supporting life-affirming decisions at Choices\, offering tangible support. LMPC will accept donations during these hours only\, under the porte cochere outside the fellowship hall:\nSun.\, June 15: 9:00 a.m. – 12:00 p.m.\nMon-Thurs\, June 16-19: 8:30 a.m. – 4:30 p.m.\nduring VBS \nAccepted items (new\, please): diapers (all sizes)\, wipes\, baby wash\, shampoo\, lotion and diaper cream\, baby towels and wash cloths\, sound machines\, bottles and sippy cups\, and baby clothing in sizes newborn to 2T.
URL:https://lmpc.org/event/choices-baby-boutique-collection/
LOCATION:Porte cochere
ATTACH;FMTTYPE=image/png:https://lmpc.org/wp-content/uploads/2025/06/Choices-Collection-WEB.png
END:VEVENT
BEGIN:VEVENT
DTSTART;TZID=America/New_York:20250616T083000
DTEND;TZID=America/New_York:20250620T120000
DTSTAMP:20260419T162853
CREATED:20240412T150726Z
LAST-MODIFIED:20250429T135355Z
UID:10000165-1750062600-1750420800@lmpc.org
SUMMARY:High School Missions Week
DESCRIPTION:We will serve with two of our strategic partner ministries: Widows Harvest and Church of the First Born in Chattanooga. Each day we will meet and return to JHYB. \n$20 is due June 1 and is non-refundable after that date. You must have a 2025 medical release and permission form on file by June 1. \nPlease register on Realm Connect by June 1. If registration is full\, please sign up on the waitlist.
URL:https://lmpc.org/event/high-school-missions-week/
LOCATION:JHYB
ATTACH;FMTTYPE=image/png:https://lmpc.org/wp-content/uploads/2024/04/missions-week-WEB.png
END:VEVENT
BEGIN:VEVENT
DTSTART;TZID=America/New_York:20250617T173000
DTEND;TZID=America/New_York:20250617T200000
DTSTAMP:20260419T162853
CREATED:20250429T211414Z
LAST-MODIFIED:20250522T191630Z
UID:10000174-1750181400-1750190400@lmpc.org
SUMMARY:VBS
DESCRIPTION:We are excited to host VBS back on our church campus this summer\, June 17-19\, from 5:30 to 8:00 p.m. Registration is now open on Realm Connect for rising kindergarteners through rising sixth graders. Cost is $20 per child and includes dinner. \nWe will eat dinner together\, have a worship time and then break into our grade level groups to go through the evening rotations. Our time together will focus on seeing the BIGNESS of God in the smallest of things and our key verse will be “Proclaim the Lord’s greatness with me. Let us exalt his name together.” -Psalm 34:3 \nWe still need volunteers! If you can help\, please register on the separate event on Realm Connect.
URL:https://lmpc.org/event/vbs-day-1/
ATTACH;FMTTYPE=image/png:https://lmpc.org/wp-content/uploads/2025/04/VBS-logo-WEB.png
ORGANIZER;CN="Brennan Griffin":MAILTO:brennan@lmpc.org
END:VEVENT
BEGIN:VEVENT
DTSTART;TZID=America/New_York:20250618T093000
DTEND;TZID=America/New_York:20250618T110000
DTSTAMP:20260419T162853
CREATED:20250430T185328Z
LAST-MODIFIED:20250506T204241Z
UID:10000295-1750239000-1750244400@lmpc.org
SUMMARY:Women's Summer Bible Study
DESCRIPTION:Join us for fellowship\, teaching\, and small group discussion as we join our church body in “Summer in the Psalms.” Nursery and Elementary childcare provided. Can only make one or two dates? No problem! Come when you can. \nMay 28: Psalm 40\nJune 4: Psalm 42\nJune 11: Psalm 62\nJune 18: Psalm 84
URL:https://lmpc.org/event/womens-summer-bible-study/2025-06-18/
LOCATION:Fellowship Hall
ATTACH;FMTTYPE=image/png:https://lmpc.org/wp-content/uploads/2025/04/SITP-tree-only.png
END:VEVENT
BEGIN:VEVENT
DTSTART;TZID=America/New_York:20250618T173000
DTEND;TZID=America/New_York:20250618T200000
DTSTAMP:20260419T162853
CREATED:20250429T211422Z
LAST-MODIFIED:20250522T191608Z
UID:10000286-1750267800-1750276800@lmpc.org
SUMMARY:VBS
DESCRIPTION:We are excited to host VBS back on our church campus this summer\, June 17-19\, from 5:30 to 8:00 p.m. Registration is now open on Realm Connect for rising kindergarteners through rising sixth graders. Cost is $20 per child and includes dinner. \nWe will eat dinner together\, have a worship time and then break into our grade level groups to go through the evening rotations. Our time together will focus on seeing the BIGNESS of God in the smallest of things and our key verse will be “Proclaim the Lord’s greatness with me. Let us exalt his name together.” -Psalm 34:3 \nWe still need volunteers! If you can help\, please register on the separate event on Realm Connect.
URL:https://lmpc.org/event/vbs-day-2/
ATTACH;FMTTYPE=image/png:https://lmpc.org/wp-content/uploads/2025/04/VBS-logo-WEB.png
ORGANIZER;CN="Brennan Griffin":MAILTO:brennan@lmpc.org
END:VEVENT
BEGIN:VEVENT
DTSTART;TZID=America/New_York:20250619T173000
DTEND;TZID=America/New_York:20250619T200000
DTSTAMP:20260419T162853
CREATED:20250429T211427Z
LAST-MODIFIED:20250516T123326Z
UID:10000287-1750354200-1750363200@lmpc.org
SUMMARY:VBS
DESCRIPTION:We are excited to host VBS back on our church campus this summer\, June 17-19\, from 5:30 to 8:00 p.m. Registration is now open on Realm Connect for rising kindergarteners through rising sixth graders. Cost is $20 per child and includes dinner. \nWe will eat dinner together\, have a worship time and then break into our grade level groups to go through the evening rotations. Our time together will focus on seeing the BIGNESS of God in the smallest of things and our key verse will be “Proclaim the Lord’s greatness with me. Let us exalt his name together.” -Psalm 34:3 \nWe still need volunteers! If you can help\, please register on the separate event on Realm Connect.
URL:https://lmpc.org/event/vbs-day-3/
ATTACH;FMTTYPE=image/png:https://lmpc.org/wp-content/uploads/2025/04/VBS-logo-WEB.png
ORGANIZER;CN="Brennan Griffin":MAILTO:brennan@lmpc.org
END:VEVENT
END:VCALENDAR