BEGIN:VCALENDAR
VERSION:2.0
PRODID:-//Lookout Mountain Presbyterian Church - ECPv6.13.0//NONSGML v1.0//EN
CALSCALE:GREGORIAN
METHOD:PUBLISH
X-WR-CALNAME:Lookout Mountain Presbyterian Church
X-ORIGINAL-URL:https://lmpc.org
X-WR-CALDESC:Events for Lookout Mountain Presbyterian Church
REFRESH-INTERVAL;VALUE=DURATION:PT1H
X-Robots-Tag:noindex
X-PUBLISHED-TTL:PT1H
BEGIN:VTIMEZONE
TZID:America/New_York
BEGIN:DAYLIGHT
TZOFFSETFROM:-0500
TZOFFSETTO:-0400
TZNAME:EDT
DTSTART:20250309T070000
END:DAYLIGHT
BEGIN:STANDARD
TZOFFSETFROM:-0400
TZOFFSETTO:-0500
TZNAME:EST
DTSTART:20251102T060000
END:STANDARD
END:VTIMEZONE
BEGIN:VTIMEZONE
TZID:UTC
BEGIN:STANDARD
TZOFFSETFROM:+0000
TZOFFSETTO:+0000
TZNAME:UTC
DTSTART:20250101T000000
END:STANDARD
END:VTIMEZONE
BEGIN:VEVENT
DTSTART;VALUE=DATE:20250629
DTEND;VALUE=DATE:20250630
DTSTAMP:20260419T143003
CREATED:20250611T185850Z
LAST-MODIFIED:20250611T185850Z
UID:10000303-1751155200-1751241599@lmpc.org
SUMMARY:George Long Preaching Series: Thurman Williams
DESCRIPTION:LMPC’s annual George Long Preaching series is upcoming on Sunday\, June 29. Our guest preacher will be Dr. Thurman Williams\, Director of Homiletics at Covenant Theological Seminary in St. Louis and Associate Pastor of New City Fellowship – West End\, also in St. Louis. He will preach at all morning services as well as our Sunday Evening Gathering at 6:00 p.m. in the fellowship hall. Nursery will be provided. \nFind more information about the George Long Preaching Series here.
URL:https://lmpc.org/event/george-long-preaching-series-thurman-williams/
ATTACH;FMTTYPE=image/png:https://lmpc.org/wp-content/uploads/2025/06/Dr.-Thurman-Williams-1.png
END:VEVENT
BEGIN:VEVENT
DTSTART;VALUE=DATE:20250630
DTEND;VALUE=DATE:20250706
DTSTAMP:20260419T143003
CREATED:20240425T103014Z
LAST-MODIFIED:20250417T162059Z
UID:10000023-1751241600-1751759999@lmpc.org
SUMMARY:High School Hilton Head Beach Trip
DESCRIPTION:WHO: CURRENT 9-12TH GRADERS\nWHEN: JUNE 30-JULY 5\nCOST: $790 (option of additional $20 for t-shirt) \nREGISTRATION INFO:\nRegister on Realm Connect by May 23. Full amount is due at that time\, and is non-refundable. If regular registration is full\, please sign up on the WAITING LIST registration. \nYou must have a 2025 LMPC Medical Release and Permission form on file with our office by May 23. \nSpace is limited. Register beginning May 1. \n*In light of the budget cuts as presented in our services on Sunday\, March 9th\, the amount which the church has previously supplemented towards the cost of this trip has decreased\, leading to an overall increase to the cost of this trip. If the increased cost prohibits participation\, we would love to discuss it with you. Please reach out to Josh Brower (josh@lmpc.org) or Annie Reynolds (annie@lmpc.org).
URL:https://lmpc.org/event/high-school-hilton-head-beach-trip/
LOCATION:Hilton Head Island\, SC
ATTACH;FMTTYPE=image/png:https://lmpc.org/wp-content/uploads/2023/06/BeachTrip_realm_web_graphic-1024x618-1.png
END:VEVENT
END:VCALENDAR