BEGIN:VCALENDAR
VERSION:2.0
PRODID:-//Lookout Mountain Presbyterian Church - ECPv6.13.0//NONSGML v1.0//EN
CALSCALE:GREGORIAN
METHOD:PUBLISH
X-WR-CALNAME:Lookout Mountain Presbyterian Church
X-ORIGINAL-URL:https://lmpc.org
X-WR-CALDESC:Events for Lookout Mountain Presbyterian Church
REFRESH-INTERVAL;VALUE=DURATION:PT1H
X-Robots-Tag:noindex
X-PUBLISHED-TTL:PT1H
BEGIN:VTIMEZONE
TZID:UTC
BEGIN:STANDARD
TZOFFSETFROM:+0000
TZOFFSETTO:+0000
TZNAME:UTC
DTSTART:20250101T000000
END:STANDARD
END:VTIMEZONE
BEGIN:VEVENT
DTSTART;TZID=UTC:20250724T180000
DTEND;TZID=UTC:20250724T203000
DTSTAMP:20260420T004720
CREATED:20230607T214819Z
LAST-MODIFIED:20250430T190251Z
UID:10000170-1753380000-1753389000@lmpc.org
SUMMARY:Women's Summer Suppers
DESCRIPTION:Make plans to join us for one of our suppers hosted in individual homes. Please register on Realm Connect and feel free to invite your friends and neighbors.  \nIf you are interested in hosting\, please email Caroline Scruggs\, Caroline@lmpc.org.
URL:https://lmpc.org/event/womens-summer-supper/
LOCATION:Various Homes
ATTACH;FMTTYPE=image/png:https://lmpc.org/wp-content/uploads/2023/06/women-bible-study-summer-image.png
END:VEVENT
END:VCALENDAR