BEGIN:VCALENDAR
VERSION:2.0
PRODID:-//Lookout Mountain Presbyterian Church - ECPv6.13.0//NONSGML v1.0//EN
CALSCALE:GREGORIAN
METHOD:PUBLISH
X-ORIGINAL-URL:https://lmpc.org
X-WR-CALDESC:Events for Lookout Mountain Presbyterian Church
REFRESH-INTERVAL;VALUE=DURATION:PT1H
X-Robots-Tag:noindex
X-PUBLISHED-TTL:PT1H
BEGIN:VTIMEZONE
TZID:America/New_York
BEGIN:DAYLIGHT
TZOFFSETFROM:-0500
TZOFFSETTO:-0400
TZNAME:EDT
DTSTART:20250309T070000
END:DAYLIGHT
BEGIN:STANDARD
TZOFFSETFROM:-0400
TZOFFSETTO:-0500
TZNAME:EST
DTSTART:20251102T060000
END:STANDARD
END:VTIMEZONE
BEGIN:VEVENT
DTSTART;TZID=America/New_York:20250727T180000
DTEND;TZID=America/New_York:20250727T190000
DTSTAMP:20260419T233032
CREATED:20250602T170723Z
LAST-MODIFIED:20250602T170723Z
UID:10000300-1753639200-1753642800@lmpc.org
SUMMARY:Youth Mexico Team Report
DESCRIPTION:Join us in the fellowship hall to hear from the team after their trip to Acapulco to serve with Casa Hogar and New Horizons Christian School. Refreshments available.
URL:https://lmpc.org/event/youth-mexico-team-report/
LOCATION:Fellowship Hall
ATTACH;FMTTYPE=image/png:https://lmpc.org/wp-content/uploads/2025/06/Summer-Missions-Series-WEB.png
END:VEVENT
END:VCALENDAR