BEGIN:VCALENDAR
VERSION:2.0
PRODID:-//Lookout Mountain Presbyterian Church - ECPv6.13.0//NONSGML v1.0//EN
CALSCALE:GREGORIAN
METHOD:PUBLISH
X-ORIGINAL-URL:https://lmpc.org
X-WR-CALDESC:Events for Lookout Mountain Presbyterian Church
REFRESH-INTERVAL;VALUE=DURATION:PT1H
X-Robots-Tag:noindex
X-PUBLISHED-TTL:PT1H
BEGIN:VTIMEZONE
TZID:America/New_York
BEGIN:DAYLIGHT
TZOFFSETFROM:-0500
TZOFFSETTO:-0400
TZNAME:EDT
DTSTART:20250309T070000
END:DAYLIGHT
BEGIN:STANDARD
TZOFFSETFROM:-0400
TZOFFSETTO:-0500
TZNAME:EST
DTSTART:20251102T060000
END:STANDARD
END:VTIMEZONE
BEGIN:VTIMEZONE
TZID:America/New_York
BEGIN:DAYLIGHT
TZOFFSETFROM:-0500
TZOFFSETTO:-0400
TZNAME:EDT
DTSTART:20250309T070000
END:DAYLIGHT
BEGIN:STANDARD
TZOFFSETFROM:-0400
TZOFFSETTO:-0500
TZNAME:EST
DTSTART:20251102T060000
END:STANDARD
END:VTIMEZONE
BEGIN:VEVENT
DTSTART;VALUE=DATE:20250817
DTEND;VALUE=DATE:20250908
DTSTAMP:20260419T233223
CREATED:20250812T135629Z
LAST-MODIFIED:20250829T131621Z
UID:10000306-1755388800-1757289599@lmpc.org
SUMMARY:Build-a-Bag
DESCRIPTION:VIEW LISTS HERE \nJoin our annual Build-a-Bag collection benefitting the Salvation Army. \nPick up a bag in the sanctuary Narthex\, fellowship hall lobby\, or at one of the adult classroom coffee stations. Consult the attached list\, go shopping\, and bring your bag back to the porte-cochere (fellowship hall entrance) on a Sunday morning by September 7. \nIf you need to return your bag during the week\, drop it at the church office building between 9:00 a.m. and 4:00 p.m. \nThank you for making a difference and helping the Salvation Army stock their pantry so those in need may select what they can use for their family.
URL:https://lmpc.org/event/build-a-bag/
LOCATION:Porte cochere
ATTACH;FMTTYPE=image/png:https://lmpc.org/wp-content/uploads/2025/08/BAB-WEB.png
END:VEVENT
BEGIN:VEVENT
DTSTART;TZID=America/New_York:20250824T100000
DTEND;TZID=America/New_York:20250824T190000
DTSTAMP:20260419T233223
CREATED:20230714T172615Z
LAST-MODIFIED:20250801T143053Z
UID:10000042-1756029600-1756062000@lmpc.org
SUMMARY:9th Grade Induction & Rafting the Ocoee
DESCRIPTION:Rising 9th through rising 12th grade students are invited to meet us at JHYB to go rafting on the Ocoee River. Please see registration on Realm Connect for more details including release forms and a list of what to bring. Your payment and waiver will reserve your spot. \nThis event fills up fast. If you need to join the waiting list\, click here.
URL:https://lmpc.org/event/rafting-the-ocoee/
LOCATION:JHYB
ATTACH;FMTTYPE=image/png:https://lmpc.org/wp-content/uploads/2023/07/HS_Rafting2024_presentation.png
END:VEVENT
BEGIN:VEVENT
DTSTART;TZID=America/New_York:20250826T183000
DTEND;TZID=America/New_York:20250826T203000
DTSTAMP:20260419T233223
CREATED:20250811T184045Z
LAST-MODIFIED:20250814T154737Z
UID:10000043-1756233000-1756240200@lmpc.org
SUMMARY:VIP Movie Night
DESCRIPTION:Come enjoy an evening of fellowship\, popcorn\, and the movie The Guernsey Literary and Potato Peel Pie Society with friends. No registration required. The VIP group is made up of mostly retired adults (ages 65+) from LMPC and the community who meet monthly for fun and fellowship.
URL:https://lmpc.org/event/vip-movie-night/
LOCATION:Room 213
ATTACH;FMTTYPE=image/png:https://lmpc.org/wp-content/uploads/2025/08/VIP-Movie-WEB.png
ORGANIZER;CN="Tim Sorrell":MAILTO:tdsorrell88@gmail.com
END:VEVENT
END:VCALENDAR