BEGIN:VCALENDAR
VERSION:2.0
PRODID:-//Lookout Mountain Presbyterian Church - ECPv6.13.0//NONSGML v1.0//EN
CALSCALE:GREGORIAN
METHOD:PUBLISH
X-WR-CALNAME:Lookout Mountain Presbyterian Church
X-ORIGINAL-URL:https://lmpc.org
X-WR-CALDESC:Events for Lookout Mountain Presbyterian Church
REFRESH-INTERVAL;VALUE=DURATION:PT1H
X-Robots-Tag:noindex
X-PUBLISHED-TTL:PT1H
BEGIN:VTIMEZONE
TZID:America/New_York
BEGIN:DAYLIGHT
TZOFFSETFROM:-0500
TZOFFSETTO:-0400
TZNAME:EDT
DTSTART:20250309T070000
END:DAYLIGHT
BEGIN:STANDARD
TZOFFSETFROM:-0400
TZOFFSETTO:-0500
TZNAME:EST
DTSTART:20251102T060000
END:STANDARD
END:VTIMEZONE
BEGIN:VTIMEZONE
TZID:America/New_York
BEGIN:DAYLIGHT
TZOFFSETFROM:-0500
TZOFFSETTO:-0400
TZNAME:EDT
DTSTART:20250309T070000
END:DAYLIGHT
BEGIN:STANDARD
TZOFFSETFROM:-0400
TZOFFSETTO:-0500
TZNAME:EST
DTSTART:20251102T060000
END:STANDARD
END:VTIMEZONE
BEGIN:VEVENT
DTSTART;TZID=America/New_York:20251116T170000
DTEND;TZID=America/New_York:20251116T180000
DTSTAMP:20260419T231512
CREATED:20251106T150401Z
LAST-MODIFIED:20251106T150401Z
UID:10000318-1763312400-1763316000@lmpc.org
SUMMARY:Advent Music Workshop
DESCRIPTION:This upcoming season\, we will savor together the anticipation of Christ’s coming by celebrating Advent as its own distinct season. So we may fully participate in Sunday morning worship\, we invite you to an informal Advent Music Workshop to learn new music for both the fellowship hall and sanctuary. This event is for everyone – including young kids! Nursery is provided. \nOn a practical note\, we will sing Christmas hymns at the Christmas Hymn Sing\, the Choir Concert\, our Christmas Eve services\, and the Sunday morning after Christmas\, but for the Sunday mornings during Advent itself (beginning November 30 and ending December 21)\, we will sing Advent hymns! While many of these hymns will be familiar\, others will be less so\, which is why we will give everyone the opportunity to learn these new hymns and participate as fully as possible in worship during the Advent season.
URL:https://lmpc.org/event/advent-music-workshop/
LOCATION:Fellowship Hall
ATTACH;FMTTYPE=image/png:https://lmpc.org/wp-content/uploads/2025/11/Advent-Music-Workshop-WEB.png
END:VEVENT
BEGIN:VEVENT
DTSTART;TZID=America/New_York:20251120T183000
DTEND;TZID=America/New_York:20251120T200000
DTSTAMP:20260419T231512
CREATED:20231024T155623Z
LAST-MODIFIED:20251107T160252Z
UID:10000121-1763663400-1763668800@lmpc.org
SUMMARY:Anticipating Advent
DESCRIPTION:All LMPC women are welcome to join us in the fellowship hall. for an evening anticipating the advent season. We will have dessert and decaf\, assemble fresh advent wreaths together\, and hear a devotional from Christy Gambrell to prepare our hearts. Please register on Realm Connect by Nov. 18 for $15 and indicate if you can contribute any greenery. \nPlease register on Realm Connect by November 18; cost is $15.
URL:https://lmpc.org/event/anticipating-advent/
LOCATION:Fellowship Hall
ATTACH;FMTTYPE=image/png:https://lmpc.org/wp-content/uploads/2023/10/Anticipating-Advent-LMPC-Women-2025-1.png
END:VEVENT
BEGIN:VEVENT
DTSTART;TZID=America/New_York:20251122T090000
DTEND;TZID=America/New_York:20251122T120000
DTSTAMP:20260419T231512
CREATED:20251030T150004Z
LAST-MODIFIED:20251031T132806Z
UID:10000316-1763802000-1763812800@lmpc.org
SUMMARY:Boxes of Blessing Prep
DESCRIPTION:Location 1: LMPC fellowship hall\nJoin us for a family-friendly event as we prepare items for inclusion in this year’s boxes. Coffee and pastries will be provided\, and all ages are welcome. Registration is required and will open on Monday\, November 3. This is a wonderful opportunity for those with young children\, or those who have physical limitations and cannot lift heavy things or stand for a length of time. \nLocation 2: Chattanooga Bakery\nJoin us as we tape boxes and prepare the warehouse ahead of the main box packing event on Saturday\, December 6. Coffee and pastries will be provided\, and this opportunity is available for middle and high school-age youth and adults. Registration is required and will open on Monday\, November 3.
URL:https://lmpc.org/event/boxes-of-blessing-prep/
LOCATION:Chattanooga Bakery\, 900 Manufacturers Road\, Chattanooga\, TN\, 37401\, United States
ATTACH;FMTTYPE=image/png:https://lmpc.org/wp-content/uploads/2025/10/Boxes-of-Blessing-Prep-Day-Realm.png
END:VEVENT
END:VCALENDAR