BEGIN:VCALENDAR
VERSION:2.0
PRODID:-//Lookout Mountain Presbyterian Church - ECPv6.13.0//NONSGML v1.0//EN
CALSCALE:GREGORIAN
METHOD:PUBLISH
X-WR-CALNAME:Lookout Mountain Presbyterian Church
X-ORIGINAL-URL:https://lmpc.org
X-WR-CALDESC:Events for Lookout Mountain Presbyterian Church
REFRESH-INTERVAL;VALUE=DURATION:PT1H
X-Robots-Tag:noindex
X-PUBLISHED-TTL:PT1H
BEGIN:VTIMEZONE
TZID:America/New_York
BEGIN:DAYLIGHT
TZOFFSETFROM:-0500
TZOFFSETTO:-0400
TZNAME:EDT
DTSTART:20250309T070000
END:DAYLIGHT
BEGIN:STANDARD
TZOFFSETFROM:-0400
TZOFFSETTO:-0500
TZNAME:EST
DTSTART:20251102T060000
END:STANDARD
END:VTIMEZONE
BEGIN:VTIMEZONE
TZID:America/New_York
BEGIN:DAYLIGHT
TZOFFSETFROM:-0500
TZOFFSETTO:-0400
TZNAME:EDT
DTSTART:20250309T070000
END:DAYLIGHT
BEGIN:STANDARD
TZOFFSETFROM:-0400
TZOFFSETTO:-0500
TZNAME:EST
DTSTART:20251102T060000
END:STANDARD
END:VTIMEZONE
BEGIN:VEVENT
DTSTART;TZID=America/New_York:20251202T190000
DTEND;TZID=America/New_York:20251202T210000
DTSTAMP:20260420T024843
CREATED:20231103T172210Z
LAST-MODIFIED:20251104T010647Z
UID:10000126-1764702000-1764709200@lmpc.org
SUMMARY:Christmas at Canopy
DESCRIPTION:All women of LMPC are invited to celebrate the Christmas season together at Canopy. Snacks are provided with drinks available for purchase; no registration required.
URL:https://lmpc.org/event/christmas-at-canopy/
LOCATION:Canopy\, 815 Scenic Hwy\, Lookout Mountain\, 37350\, United States
ATTACH;FMTTYPE=image/png:https://lmpc.org/wp-content/uploads/2023/11/Christmas-at-Canopy-WEB.png
END:VEVENT
BEGIN:VEVENT
DTSTART;TZID=America/New_York:20251203T174500
DTEND;TZID=America/New_York:20251203T190000
DTSTAMP:20260420T024843
CREATED:20241112T161752Z
LAST-MODIFIED:20251113T153521Z
UID:10000264-1764783900-1764788400@lmpc.org
SUMMARY:Family Night
DESCRIPTION:Join us for our annual family night to enjoy a pizza dinner before playing bingo for prizes! Please register on Realm Connect; regular Wednesday dinner rates apply.
URL:https://lmpc.org/event/christmas-family-bingo/
LOCATION:Fellowship Hall
ATTACH;FMTTYPE=image/png:https://lmpc.org/wp-content/uploads/2024/11/family-night-WEB.png
ORGANIZER;CN="Brennan Griffin":MAILTO:brennan@lmpc.org
END:VEVENT
BEGIN:VEVENT
DTSTART;TZID=America/New_York:20251205T180000
DTEND;TZID=America/New_York:20251205T210000
DTSTAMP:20260420T024843
CREATED:20251104T211602Z
LAST-MODIFIED:20251119T142035Z
UID:10000315-1764957600-1764968400@lmpc.org
SUMMARY:Middle School Progressive Dinner
DESCRIPTION:The most festive time of the year! Dress in tacky or classy attire; there will be a prize for both. Please register on Realm Connect.
URL:https://lmpc.org/event/middle-school-progressive-dinner/
LOCATION:JHYB
ATTACH;FMTTYPE=image/png:https://lmpc.org/wp-content/uploads/2025/11/middle-school-progressive-WEB.png
ORGANIZER;CN="Margaret Compton":MAILTO:margaretcompton@lmpc.org
END:VEVENT
BEGIN:VEVENT
DTSTART;TZID=America/New_York:20251206T080000
DTEND;TZID=America/New_York:20251206T154500
DTSTAMP:20260420T024843
CREATED:20251016T190330Z
LAST-MODIFIED:20251204T193336Z
UID:10000313-1765008000-1765035900@lmpc.org
SUMMARY:Boxes of Blessing
DESCRIPTION:Join us for a community-wide volunteer opportunity! Volunteers will assist with filling food boxes in an assembly-line environment at the Chattanooga Bakery. This year\, three shifts are available:   \n8:00-10:15 a.m.\n10:45 a.m.-1:00 p.m.\n1:30-3:45 p.m.   \nAll ages are welcome\, but this opportunity requires lifting\, standing\, and working an assembly line\, so close supervision of children is required.  \nNOTE: Registration is now closed. If you need to make changes to your registration\, please call the church office at 423-821-4528.
URL:https://lmpc.org/event/boxes-of-blessing/
LOCATION:Chattanooga Bakery\, 900 Manufacturers Road\, Chattanooga\, TN\, 37401\, United States
ATTACH;FMTTYPE=image/png:https://lmpc.org/wp-content/uploads/2025/10/Boxes-of-Blessing-Slides-Main-Event-Realm.png
END:VEVENT
END:VCALENDAR