BEGIN:VCALENDAR
VERSION:2.0
PRODID:-//Lookout Mountain Presbyterian Church - ECPv6.13.0//NONSGML v1.0//EN
CALSCALE:GREGORIAN
METHOD:PUBLISH
X-ORIGINAL-URL:https://lmpc.org
X-WR-CALDESC:Events for Lookout Mountain Presbyterian Church
REFRESH-INTERVAL;VALUE=DURATION:PT1H
X-Robots-Tag:noindex
X-PUBLISHED-TTL:PT1H
BEGIN:VTIMEZONE
TZID:UTC
BEGIN:STANDARD
TZOFFSETFROM:+0000
TZOFFSETTO:+0000
TZNAME:UTC
DTSTART:20260101T000000
END:STANDARD
END:VTIMEZONE
BEGIN:VTIMEZONE
TZID:America/New_York
BEGIN:DAYLIGHT
TZOFFSETFROM:-0500
TZOFFSETTO:-0400
TZNAME:EDT
DTSTART:20260308T070000
END:DAYLIGHT
BEGIN:STANDARD
TZOFFSETFROM:-0400
TZOFFSETTO:-0500
TZNAME:EST
DTSTART:20261101T060000
END:STANDARD
END:VTIMEZONE
BEGIN:VTIMEZONE
TZID:America/New_York
BEGIN:DAYLIGHT
TZOFFSETFROM:-0500
TZOFFSETTO:-0400
TZNAME:EDT
DTSTART:20260308T070000
END:DAYLIGHT
BEGIN:STANDARD
TZOFFSETFROM:-0400
TZOFFSETTO:-0500
TZNAME:EST
DTSTART:20261101T060000
END:STANDARD
END:VTIMEZONE
BEGIN:VEVENT
DTSTART;TZID=UTC:20260222T100000
DTEND;TZID=UTC:20260222T104500
DTSTAMP:20260422T064526
CREATED:20230606T225316Z
LAST-MODIFIED:20260105T215049Z
UID:10000326-1771754400-1771757100@lmpc.org
SUMMARY:Intro to LMPC
DESCRIPTION:Are you interested in joining LMPC? For this session\, our membership class will run as an adult elective during the Sunday School hour at 10:00 a.m. from January 4 through March 1. Please register on Realm Connect by December 23.
URL:https://lmpc.org/event/intro-to-lmpc/2026-02-22/
LOCATION:Conference Room
ATTACH;FMTTYPE=image/png:https://lmpc.org/wp-content/uploads/2023/06/Intro-image-for-website.png
ORGANIZER;CN="Julie Dean":MAILTO:julie@lmpc.org
END:VEVENT
BEGIN:VEVENT
DTSTART;TZID=America/New_York:20260224T180000
DTEND;TZID=America/New_York:20260224T200000
DTSTAMP:20260422T064526
CREATED:20231128T154020Z
LAST-MODIFIED:20260130T161017Z
UID:10000140-1771956000-1771963200@lmpc.org
SUMMARY:Women's Winter Supper
DESCRIPTION:These fellowship dinners\, hosted in individual homes\, are a great opportunity to connect with women across various ages and stages of life. Invite your friends and neighbors! Register on Realm Connect by February 19. If you are interested in hosting one of our Women’s Suppers\, please email Caroline Scruggs (caroline@lmpc.org)
URL:https://lmpc.org/event/womens-winter-supper/
LOCATION:Various Homes
ATTACH;FMTTYPE=image/png:https://lmpc.org/wp-content/uploads/2023/11/women-winter-supper-web-image.png
END:VEVENT
BEGIN:VEVENT
DTSTART;TZID=America/New_York:20260224T183000
DTEND;TZID=America/New_York:20260224T203000
DTSTAMP:20260422T064526
CREATED:20260203T141622Z
LAST-MODIFIED:20260203T141622Z
UID:10000342-1771957800-1771965000@lmpc.org
SUMMARY:The Marriage Course
DESCRIPTION:Are you ready to renew your marriage? Whether you are newlyweds or have been married many years\, the Marriage Course can help you strengthen your communication and grow your relationship. This seven-week course is a video series where each couple sits at their own table and interacts only with each other. The cost is $50 per couple and dessert will be provided. Please register on Realm Connect by February 2.
URL:https://lmpc.org/event/the-marriage-course/2026-02-24/
LOCATION:Room 211
ATTACH;FMTTYPE=image/png:https://lmpc.org/wp-content/uploads/2023/10/marriage-course-WEB.png
ORGANIZER;CN="Larry Goodman":MAILTO:ldgoodman@sbcglobal.net
END:VEVENT
BEGIN:VEVENT
DTSTART;TZID=America/New_York:20260227T183000
DTEND;TZID=America/New_York:20260301T104500
DTSTAMP:20260422T064526
CREATED:20240103T203700Z
LAST-MODIFIED:20260116T172535Z
UID:10000143-1772217000-1772361900@lmpc.org
SUMMARY:Youth Communicant Class
DESCRIPTION:This class is for youth in grades 6-12th who are interested in joining LMPC and will be held February 27-March 1: Friday evening\, Saturday morning\, and Sunday during the 10:00 a.m. Sunday School hour. Please register on Realm Connect by February 20. Email Margaret Compton with any questions at margaretcompton@lmpc.org. \nIf you are considering LMPC membership\, please complete the Statement of Intent form. \nThe communicant’s process for elementary students is a different structure. If your elementary child is asking questions about church membership\, please contact Jocelyn Christie at jocelyn@lmpc.org.
URL:https://lmpc.org/event/youth-communicant-class/
LOCATION:JHYB Middle School Room
ATTACH;FMTTYPE=image/png:https://lmpc.org/wp-content/uploads/2024/01/communicant-class-WEB.png
ORGANIZER;CN="Margaret Compton":MAILTO:margaretcompton@lmpc.org
END:VEVENT
END:VCALENDAR