BEGIN:VCALENDAR
VERSION:2.0
PRODID:-//Lookout Mountain Presbyterian Church - ECPv6.13.0//NONSGML v1.0//EN
CALSCALE:GREGORIAN
METHOD:PUBLISH
X-WR-CALNAME:Lookout Mountain Presbyterian Church
X-ORIGINAL-URL:https://lmpc.org
X-WR-CALDESC:Events for Lookout Mountain Presbyterian Church
REFRESH-INTERVAL;VALUE=DURATION:PT1H
X-Robots-Tag:noindex
X-PUBLISHED-TTL:PT1H
BEGIN:VTIMEZONE
TZID:America/New_York
BEGIN:DAYLIGHT
TZOFFSETFROM:-0500
TZOFFSETTO:-0400
TZNAME:EDT
DTSTART:20260308T070000
END:DAYLIGHT
BEGIN:STANDARD
TZOFFSETFROM:-0400
TZOFFSETTO:-0500
TZNAME:EST
DTSTART:20261101T060000
END:STANDARD
END:VTIMEZONE
BEGIN:VTIMEZONE
TZID:America/New_York
BEGIN:DAYLIGHT
TZOFFSETFROM:-0500
TZOFFSETTO:-0400
TZNAME:EDT
DTSTART:20260308T070000
END:DAYLIGHT
BEGIN:STANDARD
TZOFFSETFROM:-0400
TZOFFSETTO:-0500
TZNAME:EST
DTSTART:20261101T060000
END:STANDARD
END:VTIMEZONE
BEGIN:VEVENT
DTSTART;TZID=America/New_York:20260317T183000
DTEND;TZID=America/New_York:20260317T203000
DTSTAMP:20260422T080614
CREATED:20260203T141622Z
LAST-MODIFIED:20260203T141622Z
UID:10000345-1773772200-1773779400@lmpc.org
SUMMARY:The Marriage Course
DESCRIPTION:Are you ready to renew your marriage? Whether you are newlyweds or have been married many years\, the Marriage Course can help you strengthen your communication and grow your relationship. This seven-week course is a video series where each couple sits at their own table and interacts only with each other. The cost is $50 per couple and dessert will be provided. Please register on Realm Connect by February 2.
URL:https://lmpc.org/event/the-marriage-course/2026-03-17/
LOCATION:Room 211
ATTACH;FMTTYPE=image/png:https://lmpc.org/wp-content/uploads/2023/10/marriage-course-WEB.png
ORGANIZER;CN="Larry Goodman":MAILTO:ldgoodman@sbcglobal.net
END:VEVENT
BEGIN:VEVENT
DTSTART;TZID=America/New_York:20260320T180000
DTEND;TZID=America/New_York:20260321T100000
DTSTAMP:20260422T080614
CREATED:20240118T202310Z
LAST-MODIFIED:20260227T134407Z
UID:10000150-1774029600-1774087200@lmpc.org
SUMMARY:Middle School Guys Retreat
DESCRIPTION:We will enjoy an overnight retreat in the Jane Harris Youth Building! Packing list: Bible\, journal/notebook\, sleeping bag\, pillow\, sleeping pad\, clothes for overnight\, and toothbrush. Please register on Realm Connect by March 18.
URL:https://lmpc.org/event/middle-school-guys-retreat/
LOCATION:JHYB
ATTACH;FMTTYPE=image/png:https://lmpc.org/wp-content/uploads/2024/01/MS-Guys-Retreat-2026-WEB.png
ORGANIZER;CN="Margaret Compton":MAILTO:margaretcompton@lmpc.org
END:VEVENT
END:VCALENDAR