BEGIN:VCALENDAR
VERSION:2.0
PRODID:-//Lookout Mountain Presbyterian Church - ECPv6.13.0//NONSGML v1.0//EN
CALSCALE:GREGORIAN
METHOD:PUBLISH
X-WR-CALNAME:Lookout Mountain Presbyterian Church
X-ORIGINAL-URL:https://lmpc.org
X-WR-CALDESC:Events for Lookout Mountain Presbyterian Church
REFRESH-INTERVAL;VALUE=DURATION:PT1H
X-Robots-Tag:noindex
X-PUBLISHED-TTL:PT1H
BEGIN:VTIMEZONE
TZID:America/New_York
BEGIN:DAYLIGHT
TZOFFSETFROM:-0500
TZOFFSETTO:-0400
TZNAME:EDT
DTSTART:20260308T070000
END:DAYLIGHT
BEGIN:STANDARD
TZOFFSETFROM:-0400
TZOFFSETTO:-0500
TZNAME:EST
DTSTART:20261101T060000
END:STANDARD
END:VTIMEZONE
BEGIN:VEVENT
DTSTART;TZID=America/New_York:20260402T180000
DTEND;TZID=America/New_York:20260402T190000
DTSTAMP:20260423T022622
CREATED:20240307T204007Z
LAST-MODIFIED:20260311T203246Z
UID:10000156-1775152800-1775156400@lmpc.org
SUMMARY:Maundy Thursday Service
DESCRIPTION:Join us in the fellowship hall as we celebrate communion together; please enter in silence. Nursery provided.
URL:https://lmpc.org/event/maundy-thursday-communion-service/
LOCATION:Fellowship Hall
ATTACH;FMTTYPE=image/png:https://lmpc.org/wp-content/uploads/2026/03/Easter-2026-WEB.png
END:VEVENT
BEGIN:VEVENT
DTSTART;TZID=America/New_York:20260403T180000
DTEND;TZID=America/New_York:20260403T190000
DTSTAMP:20260423T022622
CREATED:20240307T204455Z
LAST-MODIFIED:20260311T203838Z
UID:10000157-1775239200-1775242800@lmpc.org
SUMMARY:Good Friday Service
DESCRIPTION:Join us for this service in the sanctuary; please enter in silence. Nursery provided.
URL:https://lmpc.org/event/good-friday-service/
LOCATION:Sanctuary
ATTACH;FMTTYPE=image/png:https://lmpc.org/wp-content/uploads/2026/03/Easter-2026-WEB.png
END:VEVENT
END:VCALENDAR