BEGIN:VCALENDAR
VERSION:2.0
PRODID:-//Lookout Mountain Presbyterian Church - ECPv6.13.0//NONSGML v1.0//EN
CALSCALE:GREGORIAN
METHOD:PUBLISH
X-WR-CALNAME:Lookout Mountain Presbyterian Church
X-ORIGINAL-URL:https://lmpc.org
X-WR-CALDESC:Events for Lookout Mountain Presbyterian Church
REFRESH-INTERVAL;VALUE=DURATION:PT1H
X-Robots-Tag:noindex
X-PUBLISHED-TTL:PT1H
BEGIN:VTIMEZONE
TZID:America/New_York
BEGIN:DAYLIGHT
TZOFFSETFROM:-0500
TZOFFSETTO:-0400
TZNAME:EDT
DTSTART:20260308T070000
END:DAYLIGHT
BEGIN:STANDARD
TZOFFSETFROM:-0400
TZOFFSETTO:-0500
TZNAME:EST
DTSTART:20261101T060000
END:STANDARD
END:VTIMEZONE
BEGIN:VEVENT
DTSTART;TZID=America/New_York:20260610T181500
DTEND;TZID=America/New_York:20260610T200000
DTSTAMP:20260422T174923
CREATED:20260422T195654Z
LAST-MODIFIED:20260422T205044Z
UID:10000352-1781115300-1781121600@lmpc.org
SUMMARY:Men's Ensemble
DESCRIPTION:Calling all men of heart and voice! If you love singing out the praises to our God and King\, the Men’s Summer Ensemble has a place for you! This opportunity is for high school age and above. For the month of June\, we will rehearse on Wednesday nights in the choir room and sing on Sunday mornings in the sanctuary. The ensemble’s schedule is below: \nJune 10 (Wednesday) – 6:15 p.m. to 8:00 p.m. rehearsal\nJune 14 (Sunday) – sing in both sanctuary services\nJune 17 (Wednesday) – 6:15 p.m. to 7:30 p.m. rehearsal\nJune 21 (Sunday)– sing in both sanctuary services\nJune 24 (Wednesday) – 6:15 p.m. to 7:30 p.m. rehearsal\nJune 28 (Sunday)– sing in both sanctuary services \nInterested? Please register on Realm Connect and we’ll see you on June 10!
URL:https://lmpc.org/event/mens-ensemble/
LOCATION:Choir Room
ATTACH;FMTTYPE=image/png:https://lmpc.org/wp-content/uploads/2026/04/mens-ensemble-WEB.png
ORGANIZER;CN="Brett Hyberger":MAILTO:brett@lmpc.org
END:VEVENT
END:VCALENDAR